|SUCCESS| pw152106-152110 [PATCH] [v6,5/5] examples/vhost_crypto: su
    dpdklab at iol.unh.edu 
    dpdklab at iol.unh.edu
       
    Sat Mar  1 15:24:55 CET 2025
    
    
  
Test-Label: iol-sample-apps-testing
Test-Status: SUCCESS
http://dpdk.org/patch/152110
_Testing PASS_
Submitter: Gowrishankar Muthukrishnan <gmuthukrishn at marvell.com>
Date: Wednesday, February 26 2025 18:43:16 
DPDK git baseline: Repo:dpdk
  Branch: master
  CommitID:fab31a03ba98e7457284df95dd9eef2223a4ccaa
152106-152110 --> testing pass
Upstream job id: ACVP-FIPS-testing#9083
Test environment and result as below:
+--------------------+----------------------+----------------------+
|    Environment     | compressdev_zlib_pmd | dpdk_fips_validation |
+====================+======================+======================+
| Ubuntu 22.04 (ARM) | PASS                 | SKIPPED              |
+--------------------+----------------------+----------------------+
| Ubuntu 22.04       | PASS                 | SKIPPED              |
+--------------------+----------------------+----------------------+
| Ubuntu 20.04       | SKIPPED              | PASS                 |
+--------------------+----------------------+----------------------+
Ubuntu 22.04 (ARM)
	Kernel: 5.15.0-97-generic
	Compiler: gcc gcc (Ubuntu 11.4.0-1ubuntu1~22.04) 11.4.0
Ubuntu 22.04
	Kernel: 5.15.0-100-generic
	Compiler: gcc gcc (Ubuntu 11.4.0-1ubuntu1~22.04) 11.4.0
Ubuntu 20.04
	Kernel: Depends on container host
	Compiler: gcc (Ubuntu 9.4.0-1ubuntu1~20.04.2) 9.4.0
To view detailed results, visit:
https://lab.dpdk.org/results/dashboard/patchsets/32698/
UNH-IOL DPDK Community Lab
To manage your email subscriptions, visit: 
https://lab.dpdk.org/results/dashboard/preferences/subscriptions/
    
    
More information about the test-report
mailing list