|SUCCESS| pw152222-152227 [PATCH] [v6,6/6] test/crypto: add tests fo
    dpdklab at iol.unh.edu 
    dpdklab at iol.unh.edu
       
    Wed Mar  5 08:29:01 CET 2025
    
    
  
Test-Label: iol-compile-amd64-testing
Test-Status: SUCCESS
http://dpdk.org/patch/152227
_Testing PASS_
Submitter: Gowrishankar Muthukrishnan <gmuthukrishn at marvell.com>
Date: Wednesday, March 05 2025 06:16:14 
DPDK git baseline: Repo:dpdk
  Branch: master
  CommitID:55b861c329c5a407d81a867a720fdeed2ce32ba3
152222-152227 --> testing pass
Upstream job id: Generic-VM-DPDK-Compile-Meson#33752
Test environment and result as below:
+---------------------+-------------------+--------------------+
|     Environment     | dpdk_msvc_compile | dpdk_meson_compile |
+=====================+===================+====================+
| Windows Server 2022 | PASS              | SKIPPED            |
+---------------------+-------------------+--------------------+
| FreeBSD 13.4        | SKIPPED           | PASS               |
+---------------------+-------------------+--------------------+
| FreeBSD 14.2        | SKIPPED           | PASS               |
+---------------------+-------------------+--------------------+
Windows Server 2022
	Kernel: 10.0.20348.2031
	Compiler: clang 15.0.7, gcc 14.1.0 (MinGW), and MSVC VS 19.39.33521
FreeBSD 13.4
	Kernel: 13.4-RELEASE-p1
	Compiler: clang 18.1.6
FreeBSD 14.2
	Kernel: 14.2-RELEASE
	Compiler: clang 18.1.6
To view detailed results, visit:
https://lab.dpdk.org/results/dashboard/patchsets/32749/
UNH-IOL DPDK Community Lab
To manage your email subscriptions, visit: 
https://lab.dpdk.org/results/dashboard/preferences/subscriptions/
    
    
More information about the test-report
mailing list