|SUCCESS| pw152249-152251 [PATCH] [v9,3/3] eventdev: add atomic atq 
    dpdklab at iol.unh.edu 
    dpdklab at iol.unh.edu
       
    Thu Mar  6 05:37:02 CET 2025
    
    
  
Test-Label: iol-sample-apps-testing
Test-Status: SUCCESS
http://dpdk.org/patch/152251
_Testing PASS RETEST #1_
Submitter: ejnulak <luka.jankovic at ericsson.com>
Date: Wednesday, March 05 2025 14:12:55 
DPDK git baseline: Repo:dpdk
  Branch: master
  CommitID:1fe7a8f9ebd27b449ae1d6c1eef0e9d730aeb30f
152249-152251 --> testing pass
Upstream job id: Template-DTS-Pipeline#216401
Test environment and result as below:
+--------------------+----------------------+----------------------+
|    Environment     | compressdev_zlib_pmd | dpdk_fips_validation |
+====================+======================+======================+
| Ubuntu 22.04 (ARM) | PASS                 | SKIPPED              |
+--------------------+----------------------+----------------------+
| Ubuntu 22.04       | PASS                 | SKIPPED              |
+--------------------+----------------------+----------------------+
| Ubuntu 20.04       | SKIPPED              | PASS                 |
+--------------------+----------------------+----------------------+
Ubuntu 22.04 (ARM)
	Kernel: 5.15.0-97-generic
	Compiler: gcc gcc (Ubuntu 11.4.0-1ubuntu1~22.04) 11.4.0
Ubuntu 22.04
	Kernel: 5.15.0-100-generic
	Compiler: gcc gcc (Ubuntu 11.4.0-1ubuntu1~22.04) 11.4.0
Ubuntu 20.04
	Kernel: Depends on container host
	Compiler: gcc (Ubuntu 9.4.0-1ubuntu1~20.04.2) 9.4.0
To view detailed results, visit:
https://lab.dpdk.org/results/dashboard/patchsets/32757/
UNH-IOL DPDK Community Lab
To manage your email subscriptions, visit: 
https://lab.dpdk.org/results/dashboard/preferences/subscriptions/
    
    
More information about the test-report
mailing list