|SUCCESS| pw152282 [PATCH] net/iavf: fix mbuf release bug for ARM Ar
    dpdklab at iol.unh.edu 
    dpdklab at iol.unh.edu
       
    Fri Mar  7 08:43:22 CET 2025
    
    
  
Test-Label: iol-compile-amd64-testing
Test-Status: SUCCESS
http://dpdk.org/patch/152282
_Testing PASS_
Submitter: Yang Ming <ming.1.yang at nokia-sbell.com>
Date: Friday, March 07 2025 05:40:22 
DPDK git baseline: Repo:dpdk
  Branch: master
  CommitID:591dff9603219c57140ccbd18257a8612ac6415a
152282 --> testing pass
Upstream job id: Windows-Compile-DPDK-Native#27205
Test environment and result as below:
+---------------------+--------------------+-------------------+-------------------------+
|     Environment     | dpdk_meson_compile | dpdk_msvc_compile | dpdk_llvm_clang_compile |
+=====================+====================+===================+=========================+
| FreeBSD 13.4        | PASS               | SKIPPED           | SKIPPED                 |
+---------------------+--------------------+-------------------+-------------------------+
| FreeBSD 14.2        | PASS               | SKIPPED           | SKIPPED                 |
+---------------------+--------------------+-------------------+-------------------------+
| Windows Server 2022 | SKIPPED            | PASS              | PASS                    |
+---------------------+--------------------+-------------------+-------------------------+
FreeBSD 13.4
	Kernel: 13.4-RELEASE-p1
	Compiler: clang 18.1.6
FreeBSD 14.2
	Kernel: 14.2-RELEASE
	Compiler: clang 18.1.6
Windows Server 2022
	Kernel: 10.0.20348.2031
	Compiler: clang 15.0.7, gcc 14.1.0 (MinGW), and MSVC VS 19.39.33521
To view detailed results, visit:
https://lab.dpdk.org/results/dashboard/patchsets/32776/
UNH-IOL DPDK Community Lab
To manage your email subscriptions, visit: 
https://lab.dpdk.org/results/dashboard/preferences/subscriptions/
    
    
More information about the test-report
mailing list