|SUCCESS| pw152283 [PATCH] [v2] net/mlx5/hws: fix incorrect DV FT ty
    dpdklab at iol.unh.edu 
    dpdklab at iol.unh.edu
       
    Fri Mar  7 11:56:08 CET 2025
    
    
  
Test-Label: iol-compile-amd64-testing
Test-Status: SUCCESS
http://dpdk.org/patch/152283
_Testing PASS_
Submitter: Dariusz Sosnowski <dsosnowski at nvidia.com>
Date: Friday, March 07 2025 09:22:20 
DPDK git baseline: Repo:dpdk
  Branch: master
  CommitID:cf35973540c8bb4ca5c7d105985a65a3602e5475
152283 --> testing pass
Upstream job id: Windows-Compile-DPDK-Native#27212
Test environment and result as below:
+---------------------+-------------------+-------------------------+--------------------+----------------------+
|     Environment     | dpdk_msvc_compile | dpdk_llvm_clang_compile | dpdk_meson_compile | dpdk_mingw64_compile |
+=====================+===================+=========================+====================+======================+
| Windows Server 2022 | PASS              | PASS                    | SKIPPED            | PASS                 |
+---------------------+-------------------+-------------------------+--------------------+----------------------+
| FreeBSD 13.4        | SKIPPED           | SKIPPED                 | PASS               | SKIPPED              |
+---------------------+-------------------+-------------------------+--------------------+----------------------+
| FreeBSD 14.2        | SKIPPED           | SKIPPED                 | PASS               | SKIPPED              |
+---------------------+-------------------+-------------------------+--------------------+----------------------+
Windows Server 2022
	Kernel: 10.0.20348.2031
	Compiler: clang 15.0.7, gcc 14.1.0 (MinGW), and MSVC VS 19.39.33521
FreeBSD 13.4
	Kernel: 13.4-RELEASE-p1
	Compiler: clang 18.1.6
FreeBSD 14.2
	Kernel: 14.2-RELEASE
	Compiler: clang 18.1.6
To view detailed results, visit:
https://lab.dpdk.org/results/dashboard/patchsets/32777/
UNH-IOL DPDK Community Lab
To manage your email subscriptions, visit: 
https://lab.dpdk.org/results/dashboard/preferences/subscriptions/
    
    
More information about the test-report
mailing list