|SUCCESS| pw153301 [PATCH] doc: update parameters to use for mlx5 on

dpdklab at iol.unh.edu dpdklab at iol.unh.edu
Mon May 5 23:24:28 CEST 2025


Test-Label: iol-compile-amd64-testing
Test-Status: SUCCESS
http://dpdk.org/patch/153301

_Testing PASS_

Submitter: Andre Muezerie <andremue at linux.microsoft.com>
Date: Monday, May 05 2025 15:22:41 
DPDK git baseline: Repo:dpdk
  Branch: master
  CommitID:edd3f4b1265e6da707c46ca9b6c39d332647baea

153301 --> testing pass

Upstream job id: Generic-VM-DPDK-Compile-Meson#35150

Test environment and result as below:

+--------------+--------------------+
| Environment  | dpdk_meson_compile |
+==============+====================+
| Ubuntu 20.04 | PASS               |
+--------------+--------------------+
| FreeBSD 13.5 | PASS               |
+--------------+--------------------+
| FreeBSD 14.2 | PASS               |
+--------------+--------------------+


Ubuntu 20.04
	Kernel: 4.19.325-0419325-generic
	Compiler: gcc (Ubuntu 9.4.0-1ubuntu1~20.04.2) 9.4.0

FreeBSD 13.5
	Kernel: 13.5-RELEASE
	Compiler: clang 19.1.7

FreeBSD 14.2
	Kernel: 14.2-RELEASE
	Compiler: clang 18.1.6

To view detailed results, visit:
https://lab.dpdk.org/results/dashboard/patchsets/33114/

UNH-IOL DPDK Community Lab

To manage your email subscriptions, visit: 
https://lab.dpdk.org/results/dashboard/preferences/subscriptions/


More information about the test-report mailing list