|SUCCESS| pw153296 [PATCH] [1/1] net/mlx5: unresolved symbol mlx5_ge

dpdklab at iol.unh.edu dpdklab at iol.unh.edu
Tue May 6 04:34:36 CEST 2025


Test-Label: iol-compile-amd64-testing
Test-Status: SUCCESS
http://dpdk.org/patch/153296

_Testing PASS_

Submitter: Andre Muezerie <andremue at linux.microsoft.com>
Date: Monday, May 05 2025 14:45:37 
DPDK git baseline: Repo:dpdk
  Branch: master
  CommitID:edd3f4b1265e6da707c46ca9b6c39d332647baea

153296 --> testing pass

Upstream job id: Generic-DPDK-Compile-Meson#385210

Test environment and result as below:

+-----------------------------------+--------------------+-------------------+-------------------+------------------+-------------------------+----------------------+
|            Environment            | dpdk_meson_compile | dpdk_msvc_compile | dpdk_compile_spdk | dpdk_compile_ovs | dpdk_llvm_clang_compile | dpdk_mingw64_compile |
+===================================+====================+===================+===================+==================+=========================+======================+
| FreeBSD 13.5                      | PASS               | SKIPPED           | SKIPPED           | SKIPPED          | SKIPPED                 | SKIPPED              |
+-----------------------------------+--------------------+-------------------+-------------------+------------------+-------------------------+----------------------+
| FreeBSD 14.2                      | PASS               | SKIPPED           | SKIPPED           | SKIPPED          | SKIPPED                 | SKIPPED              |
+-----------------------------------+--------------------+-------------------+-------------------+------------------+-------------------------+----------------------+
| Ubuntu 20.04                      | PASS               | SKIPPED           | SKIPPED           | SKIPPED          | SKIPPED                 | SKIPPED              |
+-----------------------------------+--------------------+-------------------+-------------------+------------------+-------------------------+----------------------+
| Ubuntu 22.04                      | PASS               | SKIPPED           | PASS              | SKIPPED          | SKIPPED                 | SKIPPED              |
+-----------------------------------+--------------------+-------------------+-------------------+------------------+-------------------------+----------------------+
| Ubuntu 24.04                      | PASS               | SKIPPED           | PASS              | PASS             | SKIPPED                 | SKIPPED              |
+-----------------------------------+--------------------+-------------------+-------------------+------------------+-------------------------+----------------------+
| Alpine                            | PASS               | SKIPPED           | SKIPPED           | SKIPPED          | SKIPPED                 | SKIPPED              |
+-----------------------------------+--------------------+-------------------+-------------------+------------------+-------------------------+----------------------+
| Ubuntu 24.04 32 Bit Cross Compile | PASS               | SKIPPED           | SKIPPED           | SKIPPED          | SKIPPED                 | SKIPPED              |
+-----------------------------------+--------------------+-------------------+-------------------+------------------+-------------------------+----------------------+
| Fedora 40 (Clang)                 | PASS               | SKIPPED           | PASS              | SKIPPED          | SKIPPED                 | SKIPPED              |
+-----------------------------------+--------------------+-------------------+-------------------+------------------+-------------------------+----------------------+
| Windows Server 2022               | SKIPPED            | PASS              | SKIPPED           | SKIPPED          | PASS                    | PASS                 |
+-----------------------------------+--------------------+-------------------+-------------------+------------------+-------------------------+----------------------+


FreeBSD 13.5
	Kernel: 13.5-RELEASE
	Compiler: clang 19.1.7

FreeBSD 14.2
	Kernel: 14.2-RELEASE
	Compiler: clang 18.1.6

Ubuntu 20.04
	Kernel: 4.19.325-0419325-generic
	Compiler: gcc (Ubuntu 9.4.0-1ubuntu1~20.04.2) 9.4.0

Ubuntu 22.04
	Kernel: Depends on container host
	Compiler: gcc (Ubuntu 11.4.0-1ubuntu1~22.04) 11.4.0

Ubuntu 24.04
	Kernel: Depends on container host
	Compiler: gcc (Ubuntu 13.3.0-6ubuntu2~24.04) 13.3.0

Alpine
	Kernel: Depends on container host
	Compiler: gcc (Alpine 14.2.0) 14.2.0

Ubuntu 24.04 32 Bit Cross Compile
	Kernel: Depends on container host
	Compiler: gcc (Ubuntu 13.3.0-6ubuntu2~24.04) 13.3.0

Fedora 40 (Clang)
	Kernel: Depends on container host
	Compiler: clang 18.1.8 (Fedora 18.1.8-1.fc40)

Windows Server 2022
	Kernel: 10.0.20348.2031
	Compiler: clang 15.0.7, gcc 14.1.0 (MinGW), and MSVC VS 19.39.33521

To view detailed results, visit:
https://lab.dpdk.org/results/dashboard/patchsets/33109/

UNH-IOL DPDK Community Lab

To manage your email subscriptions, visit: 
https://lab.dpdk.org/results/dashboard/preferences/subscriptions/


More information about the test-report mailing list