|SUCCESS| pw153304 [PATCH] eal: add asprintf() function for Windows
dpdklab at iol.unh.edu
dpdklab at iol.unh.edu
Tue May 6 05:58:52 CEST 2025
Test-Label: iol-compile-amd64-testing
Test-Status: SUCCESS
http://dpdk.org/patch/153304
_Testing PASS_
Submitter: Andre Muezerie <andremue at linux.microsoft.com>
Date: Tuesday, May 06 2025 01:43:09
DPDK git baseline: Repo:dpdk
Branch: master
CommitID:ca1690ebd224f148268285b15b97441ccdbdd07e
153304 --> testing pass
Upstream job id: Windows-Compile-DPDK-VS#5642
Test environment and result as below:
+---------------------+-------------------+--------------------+
| Environment | dpdk_msvc_compile | dpdk_meson_compile |
+=====================+===================+====================+
| Windows Server 2022 | PASS | SKIPPED |
+---------------------+-------------------+--------------------+
| FreeBSD 13.5 | SKIPPED | PASS |
+---------------------+-------------------+--------------------+
| FreeBSD 14.2 | SKIPPED | PASS |
+---------------------+-------------------+--------------------+
| Ubuntu 20.04 | SKIPPED | PASS |
+---------------------+-------------------+--------------------+
Windows Server 2022
Kernel: 10.0.20348.2031
Compiler: clang 15.0.7, gcc 14.1.0 (MinGW), and MSVC VS 19.39.33521
FreeBSD 13.5
Kernel: 13.5-RELEASE
Compiler: clang 19.1.7
FreeBSD 14.2
Kernel: 14.2-RELEASE
Compiler: clang 18.1.6
Ubuntu 20.04
Kernel: 4.19.325-0419325-generic
Compiler: gcc (Ubuntu 9.4.0-1ubuntu1~20.04.2) 9.4.0
To view detailed results, visit:
https://lab.dpdk.org/results/dashboard/patchsets/33117/
UNH-IOL DPDK Community Lab
To manage your email subscriptions, visit:
https://lab.dpdk.org/results/dashboard/preferences/subscriptions/
More information about the test-report
mailing list