|WARNING| pw153351-153352 [PATCH] [2/2] crypto/uadk: use async mode

dpdklab at iol.unh.edu dpdklab at iol.unh.edu
Thu May 8 22:45:42 CEST 2025


Test-Label: iol-sample-apps-testing
Test-Status: WARNING
http://dpdk.org/patch/153352

_Testing issues_

Submitter: Zhangfei Gao <zhangfei.gao at linaro.org>
Date: Thursday, May 08 2025 07:41:19 
DPDK git baseline: Repo:dpdk
  Branch: master
  CommitID:ca1690ebd224f148268285b15b97441ccdbdd07e

153351-153352 --> testing issues

Upstream job id: ACVP-FIPS-testing#9758

Test environment and result as below:

+--------------------+----------------------+----------------------+
|    Environment     | compressdev_zlib_pmd | dpdk_fips_validation |
+====================+======================+======================+
| Ubuntu 22.04 (ARM) | PASS                 | SKIPPED              |
+--------------------+----------------------+----------------------+
| Ubuntu 22.04       | PASS                 | SKIPPED              |
+--------------------+----------------------+----------------------+
| Ubuntu 20.04       | SKIPPED              | WARN                 |
+--------------------+----------------------+----------------------+

==== 20 line log output for Ubuntu 20.04 (dpdk_fips_validation): ====
File "/dpdk-ci/tools/acvp/acvp_tool.py", line 210, in fetch_verdict
result = requests.get(
File "/usr/local/lib/python3.8/dist-packages/requests/api.py", line 75, in get
return request('get', url, params=params, **kwargs)
File "/usr/local/lib/python3.8/dist-packages/requests/api.py", line 61, in request
return session.request(method=method, url=url, **kwargs)
File "/usr/local/lib/python3.8/dist-packages/requests/sessions.py", line 529, in request
resp = self.send(prep, **send_kwargs)
File "/usr/local/lib/python3.8/dist-packages/requests/sessions.py", line 645, in send
r = adapter.send(request, **kwargs)
File "/usr/local/lib/python3.8/dist-packages/requests/adapters.py", line 519, in send
raise ConnectionError(e, request=request)
requests.exceptions.ConnectionError: HTTPSConnectionPool(host='demo.acvts.nist.gov', port=443): Max retries exceeded with url: /acvp/v1/testSessions/613539/vectorSets/3117245/results (Caused by NewConnectionError('<urllib3.connection.HTTPSConnection object at 0x7fa94db346d0>: Failed to establish a new connection: [Errno -3] Temporary failure in name resolution'))
INFO:root:Using response file...
Traceback (most recent call last):
File "/dpdk-ci/tools/acvp/acvp_tool.py", line 368, in <module>
main(
File "/dpdk-ci/tools/acvp/acvp_tool.py", line 314, in main
with open(response_path, 'r') as upload_file:
FileNotFoundError: [Errno 2] No such file or directory: '/root/workspace/ACVP-FIPS-testing/out/acvp-aes-ctr-answers.rsp'
==== End log output ====

Ubuntu 22.04 (ARM)
	Kernel: 5.15.0-97-generic
	Compiler: gcc gcc (Ubuntu 11.4.0-1ubuntu1~22.04) 11.4.0

Ubuntu 22.04
	Kernel: 5.15.0-100-generic
	Compiler: gcc gcc (Ubuntu 11.4.0-1ubuntu1~22.04) 11.4.0

Ubuntu 20.04
	Kernel: Depends on container host
	Compiler: gcc (Ubuntu 9.4.0-1ubuntu1~20.04.2) 9.4.0

To view detailed results, visit:
https://lab.dpdk.org/results/dashboard/patchsets/33140/

UNH-IOL DPDK Community Lab

To manage your email subscriptions, visit: 
https://lab.dpdk.org/results/dashboard/preferences/subscriptions/


More information about the test-report mailing list