|SUCCESS| pw153392 [PATCH] crypto/virtio: fix DER encoding for posit

dpdklab at iol.unh.edu dpdklab at iol.unh.edu
Sat May 10 17:13:29 CEST 2025


Test-Label: iol-unit-arm64-testing
Test-Status: SUCCESS
http://dpdk.org/patch/153392

_Testing PASS_

Submitter: Gowrishankar Muthukrishnan <gmuthukrishn at marvell.com>
Date: Saturday, May 10 2025 10:44:07 
DPDK git baseline: Repo:dpdk
  Branch: master
  CommitID:ca1690ebd224f148268285b15b97441ccdbdd07e

153392 --> testing pass

Upstream job id: Generic-Unit-Test-DPDK#336991

Test environment and result as below:

+------------------------+----------------+
|      Environment       | dpdk_unit_test |
+========================+================+
| CentOS Stream 9 (ARM)  | PASS           |
+------------------------+----------------+
| Debian 12 (arm)        | PASS           |
+------------------------+----------------+
| CentOS Stream 10 (ARM) | PASS           |
+------------------------+----------------+
| Fedora 40 (ARM)        | PASS           |
+------------------------+----------------+
| RHEL9 (ARM)            | PASS           |
+------------------------+----------------+
| Fedora 41 (ARM)        | PASS           |
+------------------------+----------------+
| Fedora 40 (ARM Clang)  | PASS           |
+------------------------+----------------+
| Fedora 41 (ARM Clang)  | PASS           |
+------------------------+----------------+
| Ubuntu 20.04 (ARM)     | PASS           |
+------------------------+----------------+
| Ubuntu 22.04 (ARM)     | PASS           |
+------------------------+----------------+
| Ubuntu 24.04 (ARM)     | PASS           |
+------------------------+----------------+


CentOS Stream 9 (ARM)
	Kernel: Depends on container host
	Compiler: gcc 11.5.0 20240719 (Red Hat 11.5.0-2)

Debian 12 (arm)
	Kernel: Depends on container host
	Compiler: gcc (Debian 12.2.0-14) 12.2.0

CentOS Stream 10 (ARM)
	Kernel: Depends on container host
	Compiler: gcc 14.2.1 20241104 (Red Hat 14.2.1-6)

Fedora 40 (ARM)
	Kernel: Depends on container host
	Compiler: gcc 14.2.1 20240912 (Red Hat 14.2.1-3)

RHEL9 (ARM)
	Kernel: Depends on container host
	Compiler: gcc 11.5.0 20240719 (Red Hat 11.5.0-2)

Fedora 41 (ARM)
	Kernel: Depends on container host
	Compiler: gcc 14.2.1 20240912 (Red Hat 14.2.1-3)

Fedora 40 (ARM Clang)
	Kernel: Depends on container host
	Compiler: clang 18.1.8 (Fedora 18.1.8-1.fc40)

Fedora 41 (ARM Clang)
	Kernel: Depends on container host
	Compiler: clang 19.1.5 (Fedora 19.1.5-1.fc41)

Ubuntu 20.04 (ARM)
	Kernel: Depends on container host
	Compiler: gcc (Ubuntu 9.4.0-1ubuntu1~20.04.2) 9.4.0

Ubuntu 22.04 (ARM)
	Kernel: Depends on container host
	Compiler: gcc (Ubuntu 11.4.0-1ubuntu1~22.04) 11.4.0

Ubuntu 24.04 (ARM)
	Kernel: Depends on container host
	Compiler: gcc (Ubuntu 13.3.0-6ubuntu2~24.04) 13.3.0

To view detailed results, visit:
https://lab.dpdk.org/results/dashboard/patchsets/33152/

UNH-IOL DPDK Community Lab

To manage your email subscriptions, visit: 
https://lab.dpdk.org/results/dashboard/preferences/subscriptions/


More information about the test-report mailing list