|SUCCESS| [GIT MASTER] dcf9f9363aa9b4163d241caf8b26a84ca0c0006b

dpdklab at iol.unh.edu dpdklab at iol.unh.edu
Thu May 15 22:15:00 CEST 2025


_Testing PASS_

Branch: dpdk-next-crypto

dcf9f9363aa9b4163d241caf8b26a84ca0c0006b --> testing pass

Upstream job id: Generic-VM-DPDK-Compile-Meson#35462

Test environment and result as below:

+--------------+--------------------+
| Environment  | dpdk_meson_compile |
+==============+====================+
| Ubuntu 20.04 | PASS               |
+--------------+--------------------+
| FreeBSD 14.2 | PASS               |
+--------------+--------------------+
| FreeBSD 13.5 | PASS               |
+--------------+--------------------+


Ubuntu 20.04
	Kernel: 4.19.325-0419325-generic
	Compiler: gcc (Ubuntu 9.4.0-1ubuntu1~20.04.2) 9.4.0

FreeBSD 14.2
	Kernel: 14.2-RELEASE
	Compiler: clang 18.1.6

FreeBSD 13.5
	Kernel: 13.5-RELEASE
	Compiler: clang 19.1.7

To view detailed results, visit:
https://lab.dpdk.org/results/dashboard/tarballs/33546/

UNH-IOL DPDK Community Lab

To manage your email subscriptions, visit: 
https://lab.dpdk.org/results/dashboard/preferences/subscriptions/


More information about the test-report mailing list