|SUCCESS| pw153470-153471 [PATCH] [v5,2/2] net/hns3: fix Rx packet w

dpdklab at iol.unh.edu dpdklab at iol.unh.edu
Fri May 16 15:01:24 CEST 2025


Test-Label: iol-compile-amd64-testing
Test-Status: SUCCESS
http://dpdk.org/patch/153471

_Testing PASS_

Submitter: Dengdui Huang <huangdengdui at huawei.com>
Date: Friday, May 16 2025 07:15:19 
DPDK git baseline: Repo:dpdk
  Branch: master
  CommitID:ff05ee3e3f8fb4ce958a2ce6461e8141aea959c6

153470-153471 --> testing pass

Upstream job id: Generic-DPDK-Compile-Meson#388628

Test environment and result as below:

+-----------------------------------+-------------------------+-------------------+--------------------+-------------------+------------------+----------------------+
|            Environment            | dpdk_llvm_clang_compile | dpdk_msvc_compile | dpdk_meson_compile | dpdk_compile_spdk | dpdk_compile_ovs | dpdk_mingw64_compile |
+===================================+=========================+===================+====================+===================+==================+======================+
| Windows Server 2022               | PASS                    | PASS              | SKIPPED            | SKIPPED           | SKIPPED          | PASS                 |
+-----------------------------------+-------------------------+-------------------+--------------------+-------------------+------------------+----------------------+
| FreeBSD 13.5                      | SKIPPED                 | SKIPPED           | PASS               | SKIPPED           | SKIPPED          | SKIPPED              |
+-----------------------------------+-------------------------+-------------------+--------------------+-------------------+------------------+----------------------+
| FreeBSD 14.2                      | SKIPPED                 | SKIPPED           | PASS               | SKIPPED           | SKIPPED          | SKIPPED              |
+-----------------------------------+-------------------------+-------------------+--------------------+-------------------+------------------+----------------------+
| Ubuntu 20.04                      | SKIPPED                 | SKIPPED           | PASS               | SKIPPED           | SKIPPED          | SKIPPED              |
+-----------------------------------+-------------------------+-------------------+--------------------+-------------------+------------------+----------------------+
| CentOS Stream 9                   | SKIPPED                 | SKIPPED           | PASS               | PASS              | SKIPPED          | SKIPPED              |
+-----------------------------------+-------------------------+-------------------+--------------------+-------------------+------------------+----------------------+
| CentOS Stream 10                  | SKIPPED                 | SKIPPED           | PASS               | SKIPPED           | SKIPPED          | SKIPPED              |
+-----------------------------------+-------------------------+-------------------+--------------------+-------------------+------------------+----------------------+
| Debian 12                         | SKIPPED                 | SKIPPED           | PASS               | PASS              | SKIPPED          | SKIPPED              |
+-----------------------------------+-------------------------+-------------------+--------------------+-------------------+------------------+----------------------+
| Fedora 40                         | SKIPPED                 | SKIPPED           | PASS               | PASS              | SKIPPED          | SKIPPED              |
+-----------------------------------+-------------------------+-------------------+--------------------+-------------------+------------------+----------------------+
| Fedora 41 (Clang)                 | SKIPPED                 | SKIPPED           | PASS               | PASS              | PASS             | SKIPPED              |
+-----------------------------------+-------------------------+-------------------+--------------------+-------------------+------------------+----------------------+
| Fedora 41                         | SKIPPED                 | SKIPPED           | PASS               | PASS              | PASS             | SKIPPED              |
+-----------------------------------+-------------------------+-------------------+--------------------+-------------------+------------------+----------------------+
| openSUSE Leap 15                  | SKIPPED                 | SKIPPED           | PASS               | SKIPPED           | SKIPPED          | SKIPPED              |
+-----------------------------------+-------------------------+-------------------+--------------------+-------------------+------------------+----------------------+
| RHEL8                             | SKIPPED                 | SKIPPED           | PASS               | SKIPPED           | SKIPPED          | SKIPPED              |
+-----------------------------------+-------------------------+-------------------+--------------------+-------------------+------------------+----------------------+
| RHEL9                             | SKIPPED                 | SKIPPED           | PASS               | SKIPPED           | SKIPPED          | SKIPPED              |
+-----------------------------------+-------------------------+-------------------+--------------------+-------------------+------------------+----------------------+
| Ubuntu 22.04                      | SKIPPED                 | SKIPPED           | PASS               | PASS              | SKIPPED          | SKIPPED              |
+-----------------------------------+-------------------------+-------------------+--------------------+-------------------+------------------+----------------------+
| Ubuntu 24.04                      | SKIPPED                 | SKIPPED           | PASS               | PASS              | PASS             | SKIPPED              |
+-----------------------------------+-------------------------+-------------------+--------------------+-------------------+------------------+----------------------+
| Alpine                            | SKIPPED                 | SKIPPED           | PASS               | SKIPPED           | SKIPPED          | SKIPPED              |
+-----------------------------------+-------------------------+-------------------+--------------------+-------------------+------------------+----------------------+
| Ubuntu 24.04 32 Bit Cross Compile | SKIPPED                 | SKIPPED           | PASS               | SKIPPED           | SKIPPED          | SKIPPED              |
+-----------------------------------+-------------------------+-------------------+--------------------+-------------------+------------------+----------------------+
| Fedora 40 (Clang)                 | SKIPPED                 | SKIPPED           | PASS               | PASS              | SKIPPED          | SKIPPED              |
+-----------------------------------+-------------------------+-------------------+--------------------+-------------------+------------------+----------------------+


Windows Server 2022
	Kernel: 10.0.20348.2031
	Compiler: clang 15.0.7, gcc 14.1.0 (MinGW), and MSVC VS 19.39.33521

FreeBSD 13.5
	Kernel: 13.5-RELEASE
	Compiler: clang 19.1.7

FreeBSD 14.2
	Kernel: 14.2-RELEASE
	Compiler: clang 18.1.6

Ubuntu 20.04
	Kernel: 4.19.325-0419325-generic
	Compiler: gcc (Ubuntu 9.4.0-1ubuntu1~20.04.2) 9.4.0

CentOS Stream 9
	Kernel: Depends on container host
	Compiler: gcc 11.5.0 20240719 (Red Hat 11.5.0-2)

CentOS Stream 10
	Kernel: Depends on container host
	Compiler: gcc 14.2.1 20241104 (Red Hat 14.2.1-6)

Debian 12
	Kernel: Depends on container host
	Compiler: gcc (Debian 12.2.0-14) 12.2.0

Fedora 40
	Kernel: Depends on container host
	Compiler: gcc 14.2.1 20240912 (Red Hat 14.2.1-3)

Fedora 41 (Clang)
	Kernel: Depends on container host
	Compiler: clang 19.1.5 (Fedora 19.1.5-1.fc41)

Fedora 41
	Kernel: Depends on container host
	Compiler: gcc 14.2.1 20240912 (Red Hat 14.2.1-3)

openSUSE Leap 15
	Kernel: Depends on container host
	Compiler: gcc (SUSE Linux) 7.5.0

RHEL8
	Kernel: Depends on container host
	Compiler: gcc 8.5.0 20210514 (Red Hat 8.5.0-22)

RHEL9
	Kernel: Depends on container host
	Compiler: gcc 11.5.0 20240719 (Red Hat 11.5.0-2)

Ubuntu 22.04
	Kernel: Depends on container host
	Compiler: gcc (Ubuntu 11.4.0-1ubuntu1~22.04) 11.4.0

Ubuntu 24.04
	Kernel: Depends on container host
	Compiler: gcc (Ubuntu 13.3.0-6ubuntu2~24.04) 13.3.0

Alpine
	Kernel: Depends on container host
	Compiler: gcc (Alpine 14.2.0) 14.2.0

Ubuntu 24.04 32 Bit Cross Compile
	Kernel: Depends on container host
	Compiler: gcc (Ubuntu 13.3.0-6ubuntu2~24.04) 13.3.0

Fedora 40 (Clang)
	Kernel: Depends on container host
	Compiler: clang 18.1.8 (Fedora 18.1.8-1.fc40)

To view detailed results, visit:
https://lab.dpdk.org/results/dashboard/patchsets/33188/

UNH-IOL DPDK Community Lab

To manage your email subscriptions, visit: 
https://lab.dpdk.org/results/dashboard/preferences/subscriptions/


More information about the test-report mailing list