|SUCCESS| pw153528-153536 [PATCH] [9/9] crypto/dpaa2_sec: add suppor

dpdklab at iol.unh.edu dpdklab at iol.unh.edu
Tue May 20 08:55:31 CEST 2025


Test-Label: iol-compile-amd64-testing
Test-Status: SUCCESS
http://dpdk.org/patch/153536

_Testing PASS_

Submitter: Gagandeep Singh <g.singh at nxp.com>
Date: Tuesday, May 20 2025 05:51:33 
DPDK git baseline: Repo:dpdk
  Branch: master
  CommitID:117e86c4b96ed761e9a7ab766261208fe81bf5ca

153528-153536 --> testing pass

Upstream job id: Windows-Compile-DPDK-VS#5768

Test environment and result as below:

+---------------------+-------------------------+-------------------+--------------------+
|     Environment     | dpdk_llvm_clang_compile | dpdk_msvc_compile | dpdk_meson_compile |
+=====================+=========================+===================+====================+
| Windows Server 2022 | PASS                    | PASS              | SKIPPED            |
+---------------------+-------------------------+-------------------+--------------------+
| FreeBSD 13.5        | SKIPPED                 | SKIPPED           | PASS               |
+---------------------+-------------------------+-------------------+--------------------+
| FreeBSD 14.2        | SKIPPED                 | SKIPPED           | PASS               |
+---------------------+-------------------------+-------------------+--------------------+
| Ubuntu 20.04        | SKIPPED                 | SKIPPED           | PASS               |
+---------------------+-------------------------+-------------------+--------------------+


Windows Server 2022
	Kernel: 10.0.20348.2031
	Compiler: clang 15.0.7, gcc 14.1.0 (MinGW), and MSVC VS 19.39.33521

FreeBSD 13.5
	Kernel: 13.5-RELEASE
	Compiler: clang 19.1.7

FreeBSD 14.2
	Kernel: 14.2-RELEASE
	Compiler: clang 18.1.6

Ubuntu 20.04
	Kernel: 4.19.325-0419325-generic
	Compiler: gcc (Ubuntu 9.4.0-1ubuntu1~20.04.2) 9.4.0

To view detailed results, visit:
https://lab.dpdk.org/results/dashboard/patchsets/33211/

UNH-IOL DPDK Community Lab

To manage your email subscriptions, visit: 
https://lab.dpdk.org/results/dashboard/preferences/subscriptions/


More information about the test-report mailing list