|SUCCESS| pw153576-153578 [PATCH] [v2,3/3] dts: add flow validation

dpdklab at iol.unh.edu dpdklab at iol.unh.edu
Wed May 21 23:15:54 CEST 2025


Test-Label: iol-compile-amd64-testing
Test-Status: SUCCESS
http://dpdk.org/patch/153578

_Testing PASS_

Submitter: Dean Marx <dmarx at iol.unh.edu>
Date: Wednesday, May 21 2025 19:26:29 
DPDK git baseline: Repo:dpdk
  Branch: master
  CommitID:1aef42bc97a31906486c9d66b792208948af06f3

153576-153578 --> testing pass

Upstream job id: Generic-VM-DPDK-Compile-Meson#35642

Test environment and result as below:

+---------------------+-------------------------+--------------------+-------------------+
|     Environment     | dpdk_llvm_clang_compile | dpdk_meson_compile | dpdk_msvc_compile |
+=====================+=========================+====================+===================+
| Windows Server 2022 | PASS                    | SKIPPED            | PASS              |
+---------------------+-------------------------+--------------------+-------------------+
| Ubuntu 20.04        | SKIPPED                 | PASS               | SKIPPED           |
+---------------------+-------------------------+--------------------+-------------------+
| FreeBSD 14.2        | SKIPPED                 | PASS               | SKIPPED           |
+---------------------+-------------------------+--------------------+-------------------+


Windows Server 2022
	Kernel: 10.0.20348.2031
	Compiler: clang 15.0.7, gcc 14.1.0 (MinGW), and MSVC VS 19.39.33521

Ubuntu 20.04
	Kernel: 4.19.325-0419325-generic
	Compiler: gcc (Ubuntu 9.4.0-1ubuntu1~20.04.2) 9.4.0

FreeBSD 14.2
	Kernel: 14.2-RELEASE
	Compiler: clang 18.1.6

To view detailed results, visit:
https://lab.dpdk.org/results/dashboard/patchsets/33226/

UNH-IOL DPDK Community Lab

To manage your email subscriptions, visit: 
https://lab.dpdk.org/results/dashboard/preferences/subscriptions/


More information about the test-report mailing list