|SUCCESS| pw153736-153741 [PATCH] [6/6] crypto/cnxk: enable IV from

dpdklab at iol.unh.edu dpdklab at iol.unh.edu
Tue May 27 08:39:25 CEST 2025


Test-Label: iol-compile-amd64-testing
Test-Status: SUCCESS
http://dpdk.org/patch/153741

_Testing PASS_

Submitter: Tejasree Kondoj <ktejasree at marvell.com>
Date: Tuesday, May 27 2025 04:00:36 
DPDK git baseline: Repo:dpdk
  Branch: master
  CommitID:fc627d7065ba5100faa928cf2edfa1622846f542

153736-153741 --> testing pass

Upstream job id: Windows-Compile-DPDK-VS#5820

Test environment and result as below:

+---------------------+--------------------+-------------------+
|     Environment     | dpdk_meson_compile | dpdk_msvc_compile |
+=====================+====================+===================+
| Ubuntu 20.04        | PASS               | SKIPPED           |
+---------------------+--------------------+-------------------+
| FreeBSD 14.2        | PASS               | SKIPPED           |
+---------------------+--------------------+-------------------+
| Windows Server 2022 | SKIPPED            | PASS              |
+---------------------+--------------------+-------------------+


Ubuntu 20.04
	Kernel: 4.19.325-0419325-generic
	Compiler: gcc (Ubuntu 9.4.0-1ubuntu1~20.04.2) 9.4.0

FreeBSD 14.2
	Kernel: 14.2-RELEASE
	Compiler: clang 18.1.6

Windows Server 2022
	Kernel: 10.0.20348.2031
	Compiler: clang 15.0.7, gcc 14.1.0 (MinGW), and MSVC VS 19.39.33521

To view detailed results, visit:
https://lab.dpdk.org/results/dashboard/patchsets/33247/

UNH-IOL DPDK Community Lab

To manage your email subscriptions, visit: 
https://lab.dpdk.org/results/dashboard/preferences/subscriptions/


More information about the test-report mailing list