|SUCCESS| pw153726-153735 [PATCH] [v2,10/10] net/ice/base: update ve
    dpdklab at iol.unh.edu 
    dpdklab at iol.unh.edu
       
    Tue May 27 09:11:03 CEST 2025
    
    
  
Test-Label: iol-compile-amd64-testing
Test-Status: SUCCESS
http://dpdk.org/patch/153735
_Testing PASS_
Submitter: Dhanya Pillai <dhanya.r.pillai at intel.com>
Date: Monday, May 26 2025 18:02:58 
DPDK git baseline: Repo:dpdk
  Branch: master
  CommitID:3496f70ca7a8ee281fbb23ebcc249f728cbb00cd
153726-153735 --> testing pass
Upstream job id: Windows-Compile-DPDK-VS#5821
Test environment and result as below:
+---------------------+--------------------+-------------------+
|     Environment     | dpdk_meson_compile | dpdk_msvc_compile |
+=====================+====================+===================+
| Ubuntu 20.04        | PASS               | SKIPPED           |
+---------------------+--------------------+-------------------+
| FreeBSD 14.2        | PASS               | SKIPPED           |
+---------------------+--------------------+-------------------+
| Windows Server 2022 | SKIPPED            | PASS              |
+---------------------+--------------------+-------------------+
Ubuntu 20.04
	Kernel: 4.19.325-0419325-generic
	Compiler: gcc (Ubuntu 9.4.0-1ubuntu1~20.04.2) 9.4.0
FreeBSD 14.2
	Kernel: 14.2-RELEASE
	Compiler: clang 18.1.6
Windows Server 2022
	Kernel: 10.0.20348.2031
	Compiler: clang 15.0.7, gcc 14.1.0 (MinGW), and MSVC VS 19.39.33521
To view detailed results, visit:
https://lab.dpdk.org/results/dashboard/patchsets/33246/
UNH-IOL DPDK Community Lab
To manage your email subscriptions, visit: 
https://lab.dpdk.org/results/dashboard/preferences/subscriptions/
    
    
More information about the test-report
mailing list