|SUCCESS| pw153782-153791 [PATCH] [v3,10/10] net/ice/base: update ve
dpdklab at iol.unh.edu
dpdklab at iol.unh.edu
Wed May 28 10:42:11 CEST 2025
Test-Label: iol-unit-arm64-testing
Test-Status: SUCCESS
http://dpdk.org/patch/153791
_Testing PASS_
Submitter: Dhanya Pillai <dhanya.r.pillai at intel.com>
Date: Tuesday, May 27 2025 13:17:29
DPDK git baseline: Repo:dpdk
Branch: master
CommitID:f77eb8f3c655a2573aed77bea122d98efc12edef
153782-153791 --> testing pass
Upstream job id: Generic-Unit-Test-DPDK#341075
Test environment and result as below:
+------------------------+------------------------------+---------------------------+----------------+--------------+
| Environment | cryptodev_sw_snow3g_autotest | cryptodev_sw_zuc_autotest | dpdk_unit_test | lpm_autotest |
+========================+==============================+===========================+================+==============+
| Debian 12 (arm) | PASS | PASS | PASS | SKIPPED |
+------------------------+------------------------------+---------------------------+----------------+--------------+
| CentOS Stream 10 (ARM) | SKIPPED | SKIPPED | PASS | SKIPPED |
+------------------------+------------------------------+---------------------------+----------------+--------------+
| CentOS Stream 9 (ARM) | SKIPPED | SKIPPED | PASS | SKIPPED |
+------------------------+------------------------------+---------------------------+----------------+--------------+
| Fedora 40 (ARM) | SKIPPED | SKIPPED | PASS | SKIPPED |
+------------------------+------------------------------+---------------------------+----------------+--------------+
| Fedora 40 (ARM Clang) | SKIPPED | SKIPPED | PASS | SKIPPED |
+------------------------+------------------------------+---------------------------+----------------+--------------+
| Fedora 41 (ARM Clang) | SKIPPED | SKIPPED | PASS | SKIPPED |
+------------------------+------------------------------+---------------------------+----------------+--------------+
| Fedora 41 (ARM) | SKIPPED | SKIPPED | PASS | SKIPPED |
+------------------------+------------------------------+---------------------------+----------------+--------------+
| RHEL9 (ARM) | SKIPPED | SKIPPED | PASS | SKIPPED |
+------------------------+------------------------------+---------------------------+----------------+--------------+
| Ubuntu 22.04 (ARM) | SKIPPED | SKIPPED | PASS | SKIPPED |
+------------------------+------------------------------+---------------------------+----------------+--------------+
| Ubuntu 20.04 (ARM) | SKIPPED | SKIPPED | PASS | SKIPPED |
+------------------------+------------------------------+---------------------------+----------------+--------------+
| Ubuntu 24.04 (ARM) | SKIPPED | SKIPPED | PASS | SKIPPED |
+------------------------+------------------------------+---------------------------+----------------+--------------+
| Ubuntu 20.04 ARM SVE | SKIPPED | SKIPPED | SKIPPED | PASS |
+------------------------+------------------------------+---------------------------+----------------+--------------+
Debian 12 (arm)
Kernel: Depends on container host
Compiler: gcc (Debian 12.2.0-14) 12.2.0
CentOS Stream 10 (ARM)
Kernel: Depends on container host
Compiler: gcc 14.2.1 20241104 (Red Hat 14.2.1-6)
CentOS Stream 9 (ARM)
Kernel: Depends on container host
Compiler: gcc 11.5.0 20240719 (Red Hat 11.5.0-2)
Fedora 40 (ARM)
Kernel: Depends on container host
Compiler: gcc 14.2.1 20240912 (Red Hat 14.2.1-3)
Fedora 40 (ARM Clang)
Kernel: Depends on container host
Compiler: clang 18.1.8 (Fedora 18.1.8-1.fc40)
Fedora 41 (ARM Clang)
Kernel: Depends on container host
Compiler: clang 19.1.5 (Fedora 19.1.5-1.fc41)
Fedora 41 (ARM)
Kernel: Depends on container host
Compiler: gcc 14.2.1 20240912 (Red Hat 14.2.1-3)
RHEL9 (ARM)
Kernel: Depends on container host
Compiler: gcc 11.5.0 20240719 (Red Hat 11.5.0-2)
Ubuntu 22.04 (ARM)
Kernel: Depends on container host
Compiler: gcc (Ubuntu 11.4.0-1ubuntu1~22.04) 11.4.0
Ubuntu 20.04 (ARM)
Kernel: Depends on container host
Compiler: gcc (Ubuntu 9.4.0-1ubuntu1~20.04.2) 9.4.0
Ubuntu 24.04 (ARM)
Kernel: Depends on container host
Compiler: gcc (Ubuntu 13.3.0-6ubuntu2~24.04) 13.3.0
Ubuntu 20.04 ARM SVE
Kernel: Depends on container host
Compiler: gcc (Ubuntu 10.5.0-1ubuntu1~20.04) 10.5.0
To view detailed results, visit:
https://lab.dpdk.org/results/dashboard/patchsets/33254/
UNH-IOL DPDK Community Lab
To manage your email subscriptions, visit:
https://lab.dpdk.org/results/dashboard/preferences/subscriptions/
More information about the test-report
mailing list