|SUCCESS| pw153806 [PATCH] net/mlx5: avoid setting kernel MTU if not

dpdklab at iol.unh.edu dpdklab at iol.unh.edu
Thu May 29 00:35:15 CEST 2025


Test-Label: iol-abi-testing
Test-Status: SUCCESS
http://dpdk.org/patch/153806

_Testing PASS_

Submitter: Maxime Coquelin <maxime.coquelin at redhat.com>
Date: Wednesday, May 28 2025 09:36:44 
DPDK git baseline: Repo:dpdk
  Branch: master
  CommitID:e43585acf22932bc32617f092257795122ced05c

153806 --> testing pass

Upstream job id: Generic-DPDK-Compile-ABI#127942

Test environment and result as below:

+---------------------+----------+
|     Environment     | abi_test |
+=====================+==========+
| CentOS Stream 9     | PASS     |
+---------------------+----------+
| CentOS Stream 10    | PASS     |
+---------------------+----------+
| Debian GNU/Linux 12 | PASS     |
+---------------------+----------+
| Fedora 40 (Clang)   | PASS     |
+---------------------+----------+
| Fedora 40           | PASS     |
+---------------------+----------+
| openSUSE Leap 15.6  | PASS     |
+---------------------+----------+
| Fedora 41 (Clang)   | PASS     |
+---------------------+----------+
| Fedora 41           | PASS     |
+---------------------+----------+
| RHEL8               | PASS     |
+---------------------+----------+
| RHEL9               | PASS     |
+---------------------+----------+
| Ubuntu 22.04        | PASS     |
+---------------------+----------+
| Ubuntu 24.04        | PASS     |
+---------------------+----------+


CentOS Stream 9
	Kernel: Depends on container host
	Compiler: gcc 11.5.0 20240719 (Red Hat 11.5.0-2)

CentOS Stream 10
	Kernel: Depends on container host
	Compiler: gcc 14.2.1 20241104 (Red Hat 14.2.1-6)

Debian GNU/Linux 12
	Kernel: 5.15
	Compiler: gcc gcc (Debian 12.2.0-14) 12.2.0

Fedora 40 (Clang)
	Kernel: Depends on container host
	Compiler: clang 18.1.8 (Fedora 18.1.8-1.fc40)

Fedora 40
	Kernel: Depends on container host
	Compiler: gcc 14.2.1 20240912 (Red Hat 14.2.1-3)

openSUSE Leap 15.6
	Kernel: 5.15
	Compiler: gcc gcc (SUSE Linux) 7.5.0

Fedora 41 (Clang)
	Kernel: Depends on container host
	Compiler: clang 19.1.5 (Fedora 19.1.5-1.fc41)

Fedora 41
	Kernel: Depends on container host
	Compiler: gcc 14.2.1 20240912 (Red Hat 14.2.1-3)

RHEL8
	Kernel: Depends on container host
	Compiler: gcc 8.5.0 20210514 (Red Hat 8.5.0-22)

RHEL9
	Kernel: Depends on container host
	Compiler: gcc 11.5.0 20240719 (Red Hat 11.5.0-2)

Ubuntu 22.04
	Kernel: Depends on container host
	Compiler: gcc (Ubuntu 11.4.0-1ubuntu1~22.04) 11.4.0

Ubuntu 24.04
	Kernel: Depends on container host
	Compiler: gcc (Ubuntu 13.3.0-6ubuntu2~24.04) 13.3.0

To view detailed results, visit:
https://lab.dpdk.org/results/dashboard/patchsets/33264/

UNH-IOL DPDK Community Lab

To manage your email subscriptions, visit: 
https://lab.dpdk.org/results/dashboard/preferences/subscriptions/


More information about the test-report mailing list