|WARNING| pw153806 [PATCH] net/mlx5: avoid setting kernel MTU if not

dpdklab at iol.unh.edu dpdklab at iol.unh.edu
Thu May 29 01:30:52 CEST 2025


Test-Label: iol-compile-amd64-testing
Test-Status: WARNING
http://dpdk.org/patch/153806

_Testing issues_

Submitter: Maxime Coquelin <maxime.coquelin at redhat.com>
Date: Wednesday, May 28 2025 09:36:44 
DPDK git baseline: Repo:dpdk
  Branch: master
  CommitID:e43585acf22932bc32617f092257795122ced05c

153806 --> testing issues

Upstream job id: Generic-DPDK-Compile-Meson#392094

Test environment and result as below:

+-----------------------------------+--------------------+-------------------+------------------+
|            Environment            | dpdk_meson_compile | dpdk_compile_spdk | dpdk_compile_ovs |
+===================================+====================+===================+==================+
| CentOS Stream 9                   | PASS               | PASS              | SKIPPED          |
+-----------------------------------+--------------------+-------------------+------------------+
| Debian GNU/Linux 12               | PASS               | PASS              | SKIPPED          |
+-----------------------------------+--------------------+-------------------+------------------+
| CentOS Stream 10                  | PASS               | SKIPPED           | SKIPPED          |
+-----------------------------------+--------------------+-------------------+------------------+
| Fedora 40                         | PASS               | PASS              | SKIPPED          |
+-----------------------------------+--------------------+-------------------+------------------+
| Fedora 40 (Clang)                 | PASS               | WARN              | SKIPPED          |
+-----------------------------------+--------------------+-------------------+------------------+
| Fedora 41                         | PASS               | PASS              | PASS             |
+-----------------------------------+--------------------+-------------------+------------------+
| openSUSE Leap 15.6                | PASS               | SKIPPED           | SKIPPED          |
+-----------------------------------+--------------------+-------------------+------------------+
| Red Hat Enterprise Linux 8.10     | PASS               | SKIPPED           | SKIPPED          |
+-----------------------------------+--------------------+-------------------+------------------+
| Fedora 41 (Clang)                 | PASS               | WARN              | PASS             |
+-----------------------------------+--------------------+-------------------+------------------+
| Red Hat Enterprise Linux 9.5      | PASS               | SKIPPED           | SKIPPED          |
+-----------------------------------+--------------------+-------------------+------------------+
| Ubuntu 20.04                      | PASS               | SKIPPED           | SKIPPED          |
+-----------------------------------+--------------------+-------------------+------------------+
| Ubuntu 22.04                      | PASS               | PASS              | SKIPPED          |
+-----------------------------------+--------------------+-------------------+------------------+
| Ubuntu 24.04                      | PASS               | PASS              | PASS             |
+-----------------------------------+--------------------+-------------------+------------------+
| Alpine                            | PASS               | SKIPPED           | SKIPPED          |
+-----------------------------------+--------------------+-------------------+------------------+
| Ubuntu 24.04 32 Bit Cross Compile | PASS               | SKIPPED           | SKIPPED          |
+-----------------------------------+--------------------+-------------------+------------------+
| FreeBSD 14.2                      | PASS               | SKIPPED           | SKIPPED          |
+-----------------------------------+--------------------+-------------------+------------------+

==== 20 line log output for Fedora 41 (Clang) (dpdk_compile_spdk): ====
 --- Failed to get log output --- 
==== End log output ====

CentOS Stream 9
	Kernel: Depends on container host
	Compiler: gcc 11.5.0 20240719 (Red Hat 11.5.0-2)

Debian GNU/Linux 12
	Kernel: 5.15
	Compiler: gcc gcc (Debian 12.2.0-14) 12.2.0

CentOS Stream 10
	Kernel: Depends on container host
	Compiler: gcc 14.2.1 20241104 (Red Hat 14.2.1-6)

Fedora 40
	Kernel: Depends on container host
	Compiler: gcc 14.2.1 20240912 (Red Hat 14.2.1-3)

Fedora 40 (Clang)
	Kernel: Depends on container host
	Compiler: clang 18.1.8 (Fedora 18.1.8-1.fc40)

Fedora 41
	Kernel: Depends on container host
	Compiler: gcc 14.2.1 20240912 (Red Hat 14.2.1-3)

openSUSE Leap 15.6
	Kernel: 5.15
	Compiler: gcc gcc (SUSE Linux) 7.5.0

Red Hat Enterprise Linux 8.10
	Kernel: 5.15
	Compiler: gcc gcc (GCC) 8.5.0 20210514 (Red Hat 8.5.0-22)

Fedora 41 (Clang)
	Kernel: Depends on container host
	Compiler: clang 19.1.5 (Fedora 19.1.5-1.fc41)

Red Hat Enterprise Linux 9.5
	Kernel: 5.15
	Compiler: gcc gcc (GCC) 11.5.0 20240719 (Red Hat 11.5.0-2)

Ubuntu 20.04
	Kernel: Depends on container host
	Compiler: gcc (Ubuntu 9.4.0-1ubuntu1~20.04.2) 9.4.0

Ubuntu 22.04
	Kernel: 5.15
	Compiler: gcc gcc (Ubuntu 11.4.0-1ubuntu1~22.04) 11.4.0

Ubuntu 24.04
	Kernel: 5.15
	Compiler: gcc gcc (Ubuntu 13.3.0-6ubuntu2~24.04) 13.3.0

Alpine
	Kernel: Depends on container host
	Compiler: gcc (Alpine 14.2.0) 14.2.0

Ubuntu 24.04 32 Bit Cross Compile
	Kernel: Depends on container host
	Compiler: gcc (Ubuntu 13.3.0-6ubuntu2~24.04) 13.3.0

FreeBSD 14.2
	Kernel: 14.2-RELEASE
	Compiler: clang 18.1.6

To view detailed results, visit:
https://lab.dpdk.org/results/dashboard/patchsets/33264/

UNH-IOL DPDK Community Lab

To manage your email subscriptions, visit: 
https://lab.dpdk.org/results/dashboard/preferences/subscriptions/


More information about the test-report mailing list