|SUCCESS| [GIT MASTER] a633a128fd09ff1fc72312f4e4d1a9e0f73aa359
dpdklab at iol.unh.edu
dpdklab at iol.unh.edu
Thu May 29 05:52:04 CEST 2025
_Testing PASS_
Branch: dpdk
a633a128fd09ff1fc72312f4e4d1a9e0f73aa359 --> testing pass
Upstream job id: Generic-Unit-Test-DPDK#341329
Test environment and result as below:
+------------------------------+--------------+----------------+------------------------------+---------------------------+
| Environment | lpm_autotest | dpdk_unit_test | cryptodev_sw_snow3g_autotest | cryptodev_sw_zuc_autotest |
+==============================+==============+================+==============================+===========================+
| Ubuntu 20.04 | PASS | PASS | SKIPPED | SKIPPED |
+------------------------------+--------------+----------------+------------------------------+---------------------------+
| CentOS Stream 9 (ARM) | SKIPPED | PASS | SKIPPED | SKIPPED |
+------------------------------+--------------+----------------+------------------------------+---------------------------+
| CentOS Stream 10 (ARM) | SKIPPED | PASS | SKIPPED | SKIPPED |
+------------------------------+--------------+----------------+------------------------------+---------------------------+
| Debian 12 (arm) | SKIPPED | PASS | PASS | PASS |
+------------------------------+--------------+----------------+------------------------------+---------------------------+
| Fedora 40 (ARM) | SKIPPED | PASS | SKIPPED | SKIPPED |
+------------------------------+--------------+----------------+------------------------------+---------------------------+
| Fedora 41 (ARM Clang) | SKIPPED | PASS | SKIPPED | SKIPPED |
+------------------------------+--------------+----------------+------------------------------+---------------------------+
| Fedora 41 (ARM) | SKIPPED | PASS | SKIPPED | SKIPPED |
+------------------------------+--------------+----------------+------------------------------+---------------------------+
| Ubuntu 24.04 | SKIPPED | PASS | SKIPPED | SKIPPED |
+------------------------------+--------------+----------------+------------------------------+---------------------------+
| Fedora 40 (ARM Clang) | SKIPPED | PASS | SKIPPED | SKIPPED |
+------------------------------+--------------+----------------+------------------------------+---------------------------+
| Ubuntu 22.04 (ARM) | SKIPPED | PASS | SKIPPED | SKIPPED |
+------------------------------+--------------+----------------+------------------------------+---------------------------+
| Red Hat Enterprise Linux 9.5 | SKIPPED | PASS | SKIPPED | SKIPPED |
+------------------------------+--------------+----------------+------------------------------+---------------------------+
| Ubuntu 22.04 | SKIPPED | PASS | SKIPPED | SKIPPED |
+------------------------------+--------------+----------------+------------------------------+---------------------------+
Ubuntu 20.04
Kernel: 5.4
Compiler: gcc gcc (Ubuntu 9.4.0-1ubuntu1~20.04.2) 9.4.0
CentOS Stream 9 (ARM)
Kernel: Depends on container host
Compiler: gcc 11.5.0 20240719 (Red Hat 11.5.0-2)
CentOS Stream 10 (ARM)
Kernel: Depends on container host
Compiler: gcc 14.2.1 20241104 (Red Hat 14.2.1-6)
Debian 12 (arm)
Kernel: Depends on container host
Compiler: gcc (Debian 12.2.0-14) 12.2.0
Fedora 40 (ARM)
Kernel: Depends on container host
Compiler: gcc 14.2.1 20240912 (Red Hat 14.2.1-3)
Fedora 41 (ARM Clang)
Kernel: Depends on container host
Compiler: clang 19.1.5 (Fedora 19.1.5-1.fc41)
Fedora 41 (ARM)
Kernel: Depends on container host
Compiler: gcc 14.2.1 20240912 (Red Hat 14.2.1-3)
Ubuntu 24.04
Kernel: 5.4
Compiler: gcc gcc (Ubuntu 13.3.0-6ubuntu2~24.04) 13.3.0
Fedora 40 (ARM Clang)
Kernel: Depends on container host
Compiler: clang 18.1.8 (Fedora 18.1.8-1.fc40)
Ubuntu 22.04 (ARM)
Kernel: Depends on container host
Compiler: gcc (Ubuntu 11.4.0-1ubuntu1~22.04) 11.4.0
Red Hat Enterprise Linux 9.5
Kernel: 5.4
Compiler: gcc gcc (GCC) 11.5.0 20240719 (Red Hat 11.5.0-2)
Ubuntu 22.04
Kernel: 5.15
Compiler: gcc gcc (Ubuntu 11.4.0-1ubuntu1~22.04) 11.4.0
To view detailed results, visit:
https://lab.dpdk.org/results/dashboard/tarballs/33674/
UNH-IOL DPDK Community Lab
To manage your email subscriptions, visit:
https://lab.dpdk.org/results/dashboard/preferences/subscriptions/
More information about the test-report
mailing list