|SUCCESS| pw153839 [PATCH] ethdev: fix null error struct in flow con

dpdklab at iol.unh.edu dpdklab at iol.unh.edu
Fri May 30 04:02:52 CEST 2025


Test-Label: iol-compile-arm64-testing
Test-Status: SUCCESS
http://dpdk.org/patch/153839

_Testing PASS_

Submitter: Maayan Kashani <mkashani at nvidia.com>
Date: Thursday, May 29 2025 05:56:10 
DPDK git baseline: Repo:dpdk
  Branch: master
  CommitID:466db466e2938c0d4e7f3dd75435483133f98770

153839 --> testing pass

Upstream job id: Generic-DPDK-Compile-Meson#392491

Test environment and result as below:

+------------------------+--------------------+
|      Environment       | dpdk_meson_compile |
+========================+====================+
| Ubuntu 20.04           | PASS               |
+------------------------+--------------------+
| Debian GNU/Linux 12    | PASS               |
+------------------------+--------------------+
| Fedora 40 (ARM)        | PASS               |
+------------------------+--------------------+
| Fedora 40 (ARM Clang)  | PASS               |
+------------------------+--------------------+
| Fedora 41 (ARM)        | PASS               |
+------------------------+--------------------+
| Fedora 41 (ARM Clang)  | PASS               |
+------------------------+--------------------+
| Ubuntu 22.04           | PASS               |
+------------------------+--------------------+
| Ubuntu 24.04           | PASS               |
+------------------------+--------------------+
| CentOS Stream 9 (ARM)  | PASS               |
+------------------------+--------------------+
| CentOS Stream 10 (ARM) | PASS               |
+------------------------+--------------------+


Ubuntu 20.04
	Kernel: 5.15
	Compiler: aarch64-linux-gnu-gcc gcc (Ubuntu 9.4.0-1ubuntu1~20.04.2) 9.4.0

Debian GNU/Linux 12
	Kernel: 5.4
	Compiler: gcc gcc (Debian 12.2.0-14) 12.2.0

Fedora 40 (ARM)
	Kernel: Depends on container host
	Compiler: gcc 14.2.1 20240912 (Red Hat 14.2.1-3)

Fedora 40 (ARM Clang)
	Kernel: Depends on container host
	Compiler: clang 18.1.8 (Fedora 18.1.8-1.fc40)

Fedora 41 (ARM)
	Kernel: Depends on container host
	Compiler: gcc 14.2.1 20240912 (Red Hat 14.2.1-3)

Fedora 41 (ARM Clang)
	Kernel: Depends on container host
	Compiler: clang 19.1.5 (Fedora 19.1.5-1.fc41)

Ubuntu 22.04
	Kernel: 5.4
	Compiler: gcc gcc (Ubuntu 11.4.0-1ubuntu1~22.04) 11.4.0

Ubuntu 24.04
	Kernel: 5.4
	Compiler: gcc gcc (Ubuntu 13.3.0-6ubuntu2~24.04) 13.3.0

CentOS Stream 9 (ARM)
	Kernel: Depends on container host
	Compiler: gcc 11.5.0 20240719 (Red Hat 11.5.0-2)

CentOS Stream 10 (ARM)
	Kernel: Depends on container host
	Compiler: gcc 14.2.1 20241104 (Red Hat 14.2.1-6)

To view detailed results, visit:
https://lab.dpdk.org/results/dashboard/patchsets/33274/

UNH-IOL DPDK Community Lab

To manage your email subscriptions, visit: 
https://lab.dpdk.org/results/dashboard/preferences/subscriptions/


More information about the test-report mailing list