|SUCCESS| pw153890-153914 [PATCH] [v4,25/25] net/intel: add common T
dpdklab at iol.unh.edu
dpdklab at iol.unh.edu
Fri May 30 17:27:59 CEST 2025
Test-Label: iol-compile-amd64-testing
Test-Status: SUCCESS
http://dpdk.org/patch/153914
_Testing PASS_
Submitter: Anatoly Burakov <anatoly.burakov at intel.com>
Date: Friday, May 30 2025 13:57:21
DPDK git baseline: Repo:dpdk
Branch: master
CommitID:466db466e2938c0d4e7f3dd75435483133f98770
153890-153914 --> testing pass
Upstream job id: Generic-VM-DPDK-Compile-Meson#35923
Test environment and result as below:
+---------------------+--------------------+-------------------+
| Environment | dpdk_meson_compile | dpdk_msvc_compile |
+=====================+====================+===================+
| Ubuntu 20.04 | PASS | SKIPPED |
+---------------------+--------------------+-------------------+
| FreeBSD 14.2 | PASS | SKIPPED |
+---------------------+--------------------+-------------------+
| Windows Server 2022 | SKIPPED | PASS |
+---------------------+--------------------+-------------------+
Ubuntu 20.04
Kernel: 4.19
Compiler: gcc gcc (Ubuntu 9.4.0-1ubuntu1~20.04.2) 9.4.0
FreeBSD 14.2
Kernel: 14.2-RELEASE
Compiler: clang 18.1.6
Windows Server 2022
Kernel: 10.0.20348.2031
Compiler: clang 15.0.7, gcc 14.1.0 (MinGW), and MSVC VS 19.39.33521
To view detailed results, visit:
https://lab.dpdk.org/results/dashboard/patchsets/33290/
UNH-IOL DPDK Community Lab
To manage your email subscriptions, visit:
https://lab.dpdk.org/results/dashboard/preferences/subscriptions/
More information about the test-report
mailing list