|SUCCESS| pw153888-153889 [PATCH] [v2,2/2] fix eal/freebsd: unregist

dpdklab at iol.unh.edu dpdklab at iol.unh.edu
Fri May 30 18:25:46 CEST 2025


Test-Label: iol-compile-amd64-testing
Test-Status: SUCCESS
http://dpdk.org/patch/153889

_Testing PASS_

Submitter: Rui Ferreira <rui.ferreira1 at h-partners.com>
Date: Friday, May 30 2025 08:18:44 
DPDK git baseline: Repo:dpdk
  Branch: master
  CommitID:a633a128fd09ff1fc72312f4e4d1a9e0f73aa359

153888-153889 --> testing pass

Upstream job id: Windows-Compile-DPDK-VS#5873

Test environment and result as below:

+---------------------+--------------------+-------------------+
|     Environment     | dpdk_meson_compile | dpdk_msvc_compile |
+=====================+====================+===================+
| Ubuntu 20.04        | PASS               | SKIPPED           |
+---------------------+--------------------+-------------------+
| FreeBSD 14.2        | PASS               | SKIPPED           |
+---------------------+--------------------+-------------------+
| Windows Server 2022 | SKIPPED            | PASS              |
+---------------------+--------------------+-------------------+


Ubuntu 20.04
	Kernel: 4.19
	Compiler: gcc gcc (Ubuntu 9.4.0-1ubuntu1~20.04.2) 9.4.0

FreeBSD 14.2
	Kernel: 14.2-RELEASE
	Compiler: clang 18.1.6

Windows Server 2022
	Kernel: 10.0.20348.2031
	Compiler: clang 15.0.7, gcc 14.1.0 (MinGW), and MSVC VS 19.39.33521

To view detailed results, visit:
https://lab.dpdk.org/results/dashboard/patchsets/33289/

UNH-IOL DPDK Community Lab

To manage your email subscriptions, visit: 
https://lab.dpdk.org/results/dashboard/preferences/subscriptions/


More information about the test-report mailing list