|SUCCESS| pw153919 [PATCH] [v2] net/mlx5: declare size of rte_v128u3

dpdklab at iol.unh.edu dpdklab at iol.unh.edu
Sat May 31 04:48:42 CEST 2025


Test-Label: iol-unit-arm64-testing
Test-Status: SUCCESS
http://dpdk.org/patch/153919

_Testing PASS_

Submitter: Andre Muezerie <andremue at linux.microsoft.com>
Date: Saturday, May 31 2025 00:21:57 
DPDK git baseline: Repo:dpdk
  Branch: master
  CommitID:e43585acf22932bc32617f092257795122ced05c

153919 --> testing pass

Upstream job id: Generic-Unit-Test-DPDK#342267

Test environment and result as below:

+------------------------------+---------------------------+--------------+------------------------------+----------------+
|         Environment          | cryptodev_sw_zuc_autotest | lpm_autotest | cryptodev_sw_snow3g_autotest | dpdk_unit_test |
+==============================+===========================+==============+==============================+================+
| Debian 12 (arm)              | PASS                      | SKIPPED      | PASS                         | SKIPPED        |
+------------------------------+---------------------------+--------------+------------------------------+----------------+
| Ubuntu 20.04                 | SKIPPED                   | PASS         | SKIPPED                      | PASS           |
+------------------------------+---------------------------+--------------+------------------------------+----------------+
| CentOS Stream 9 (ARM)        | SKIPPED                   | SKIPPED      | SKIPPED                      | PASS           |
+------------------------------+---------------------------+--------------+------------------------------+----------------+
| CentOS Stream 10 (ARM)       | SKIPPED                   | SKIPPED      | SKIPPED                      | PASS           |
+------------------------------+---------------------------+--------------+------------------------------+----------------+
| Debian GNU/Linux 12          | SKIPPED                   | SKIPPED      | SKIPPED                      | PASS           |
+------------------------------+---------------------------+--------------+------------------------------+----------------+
| Fedora 40 (ARM)              | SKIPPED                   | SKIPPED      | SKIPPED                      | PASS           |
+------------------------------+---------------------------+--------------+------------------------------+----------------+
| Red Hat Enterprise Linux 9.5 | SKIPPED                   | SKIPPED      | SKIPPED                      | PASS           |
+------------------------------+---------------------------+--------------+------------------------------+----------------+
| Fedora 41 (ARM Clang)        | SKIPPED                   | SKIPPED      | SKIPPED                      | PASS           |
+------------------------------+---------------------------+--------------+------------------------------+----------------+
| Fedora 40 (ARM Clang)        | SKIPPED                   | SKIPPED      | SKIPPED                      | PASS           |
+------------------------------+---------------------------+--------------+------------------------------+----------------+
| Fedora 41 (ARM)              | SKIPPED                   | SKIPPED      | SKIPPED                      | PASS           |
+------------------------------+---------------------------+--------------+------------------------------+----------------+
| Ubuntu 24.04                 | SKIPPED                   | SKIPPED      | SKIPPED                      | PASS           |
+------------------------------+---------------------------+--------------+------------------------------+----------------+
| Ubuntu 22.04                 | SKIPPED                   | SKIPPED      | SKIPPED                      | PASS           |
+------------------------------+---------------------------+--------------+------------------------------+----------------+


Debian 12 (arm)
	Kernel: Depends on container host
	Compiler: gcc (Debian 12.2.0-14) 12.2.0

Ubuntu 20.04
	Kernel: 5.4
	Compiler: gcc gcc (Ubuntu 9.4.0-1ubuntu1~20.04.2) 9.4.0

CentOS Stream 9 (ARM)
	Kernel: Depends on container host
	Compiler: gcc 11.5.0 20240719 (Red Hat 11.5.0-2)

CentOS Stream 10 (ARM)
	Kernel: Depends on container host
	Compiler: gcc 14.2.1 20241104 (Red Hat 14.2.1-6)

Debian GNU/Linux 12
	Kernel: 5.4
	Compiler: gcc gcc (Debian 12.2.0-14) 12.2.0

Fedora 40 (ARM)
	Kernel: Depends on container host
	Compiler: gcc 14.2.1 20240912 (Red Hat 14.2.1-3)

Red Hat Enterprise Linux 9.5
	Kernel: 5.4
	Compiler: gcc gcc (GCC) 11.5.0 20240719 (Red Hat 11.5.0-2)

Fedora 41 (ARM Clang)
	Kernel: Depends on container host
	Compiler: clang 19.1.5 (Fedora 19.1.5-1.fc41)

Fedora 40 (ARM Clang)
	Kernel: Depends on container host
	Compiler: clang 18.1.8 (Fedora 18.1.8-1.fc40)

Fedora 41 (ARM)
	Kernel: Depends on container host
	Compiler: gcc 14.2.1 20240912 (Red Hat 14.2.1-3)

Ubuntu 24.04
	Kernel: 5.4
	Compiler: gcc gcc (Ubuntu 13.3.0-6ubuntu2~24.04) 13.3.0

Ubuntu 22.04
	Kernel: 5.4
	Compiler: gcc gcc (Ubuntu 11.4.0-1ubuntu1~22.04) 11.4.0

To view detailed results, visit:
https://lab.dpdk.org/results/dashboard/patchsets/33293/

UNH-IOL DPDK Community Lab

To manage your email subscriptions, visit: 
https://lab.dpdk.org/results/dashboard/preferences/subscriptions/


More information about the test-report mailing list