|SUCCESS| pw158429-158433 [PATCH] [5/5] net/mlx5: support count and
dpdklab at iol.unh.edu
dpdklab at iol.unh.edu
Tue Nov 4 22:33:11 CET 2025
Test-Label: iol-compile-arm64-testing
Test-Status: SUCCESS
http://dpdk.org/patch/158433
_Testing PASS_
Submitter: Dariusz Sosnowski <dsosnowski at nvidia.com>
Date: Tuesday, November 04 2025 17:46:12
DPDK git baseline: Repo:dpdk-next-net-mlx
Branch: master
CommitID:f1c1f82f2421be9ac2f46b4ec2a616ca28da4ca7
158429-158433 --> testing pass
Upstream job id: Generic-DPDK-Compile-Meson#440726
Test environment and result as below:
+------------------------------+--------------------+
| Environment | dpdk_meson_compile |
+==============================+====================+
| Red Hat Enterprise Linux 9.5 | PASS |
+------------------------------+--------------------+
| Ubuntu 20.04 | PASS |
+------------------------------+--------------------+
| Fedora Linux 42 | PASS |
+------------------------------+--------------------+
| Debian GNU/Linux 12 | PASS |
+------------------------------+--------------------+
| Ubuntu 22.04 | PASS |
+------------------------------+--------------------+
| CentOS Stream 10 | PASS |
+------------------------------+--------------------+
| Ubuntu 24.04 | PASS |
+------------------------------+--------------------+
| CentOS Stream 9 | PASS |
+------------------------------+--------------------+
Red Hat Enterprise Linux 9.5
Kernel: 5.4
Compiler: gcc gcc (GCC) 11.5.0 20240719 (Red Hat 11.5.0-2)
Ubuntu 20.04
Kernel: 5.15
Compiler: aarch64-linux-gnu-gcc gcc (Ubuntu 9.4.0-1ubuntu1~20.04.2) 9.4.0
Fedora Linux 42
Kernel: 5.4
Compiler: gcc gcc (GCC) 15.2.1 20250808 (Red Hat 15.2.1-1)
Debian GNU/Linux 12
Kernel: 5.4
Compiler: gcc gcc (Debian 12.2.0-14+deb12u1) 12.2.0
Ubuntu 22.04
Kernel: 5.4
Compiler: gcc gcc (Ubuntu 11.4.0-1ubuntu1~22.04) 11.4.0
CentOS Stream 10
Kernel: 5.4
Compiler: gcc gcc (GCC) 14.2.1 20250110 (Red Hat 14.2.1-8)
Ubuntu 24.04
Kernel: 5.4
Compiler: gcc gcc (Ubuntu 13.3.0-6ubuntu2~24.04) 13.3.0
CentOS Stream 9
Kernel: 5.4
Compiler: gcc gcc (GCC) 11.5.0 20240719 (Red Hat 11.5.0-11)
To view detailed results, visit:
https://lab.dpdk.org/results/dashboard/patchsets/34462/
UNH-IOL DPDK Community Lab
To manage your email subscriptions, visit:
https://lab.dpdk.org/results/dashboard/preferences/subscriptions/
More information about the test-report
mailing list