|SUCCESS| pw158483 [PATCH] [v2] dts: testpmd link check on port star
dpdklab at iol.unh.edu
dpdklab at iol.unh.edu
Fri Nov 7 02:08:47 CET 2025
Test-Label: iol-compile-amd64-testing
Test-Status: SUCCESS
http://dpdk.org/patch/158483
_Testing PASS_
Submitter: Patrick Robb <probb at iol.unh.edu>
Date: Wednesday, November 05 2025 19:49:25
DPDK git baseline: Repo:dpdk-next-dts
Branch: master
CommitID:4f35a61a6a5a31f822c3d7519e8a1de1b7cbd9c4
158483 --> testing pass
Upstream job id: Generic-DPDK-Compile-Meson#441748
Test environment and result as below:
+------------------------------+--------------------+
| Environment | dpdk_meson_compile |
+==============================+====================+
| Ubuntu 20.04 | PASS |
+------------------------------+--------------------+
| FreeBSD 14.2 | PASS |
+------------------------------+--------------------+
| Red Hat Enterprise Linux 9.5 | PASS |
+------------------------------+--------------------+
Ubuntu 20.04
Kernel: 4.19
Compiler: gcc gcc (Ubuntu 9.4.0-1ubuntu1~20.04.2) 9.4.0
FreeBSD 14.2
Kernel: 14.2-RELEASE
Compiler: clang 18.1.6
Red Hat Enterprise Linux 9.5
Kernel: 5.15
Compiler: gcc gcc (GCC) 11.5.0 20240719 (Red Hat 11.5.0-2)
To view detailed results, visit:
https://lab.dpdk.org/results/dashboard/patchsets/34500/
UNH-IOL DPDK Community Lab
To manage your email subscriptions, visit:
https://lab.dpdk.org/results/dashboard/preferences/subscriptions/
More information about the test-report
mailing list