|SUCCESS| pw158529-158531 [PATCH] [3/3] bus/fslmc: add support for h

dpdklab at iol.unh.edu dpdklab at iol.unh.edu
Fri Nov 7 08:05:11 CET 2025


Test-Label: iol-unit-arm64-testing
Test-Status: SUCCESS
http://dpdk.org/patch/158531

_Testing PASS_

Submitter: Hemant Agrawal <hemant.agrawal at nxp.com>
Date: Thursday, November 06 2025 16:38:07 
DPDK git baseline: Repo:dpdk-next-net
  Branch: master
  CommitID:591ee7f468aebec30d68d30afa8d5e4dcfc897dc

158529-158531 --> testing pass

Upstream job id: Generic-Unit-Test-DPDK#389456

Test environment and result as below:

+------------------------------+----------------+------------------------------+--------------+---------------------------+
|         Environment          | dpdk_unit_test | cryptodev_sw_snow3g_autotest | lpm_autotest | cryptodev_sw_zuc_autotest |
+==============================+================+==============================+==============+===========================+
| CentOS Stream 10             | PASS           | SKIPPED                      | SKIPPED      | SKIPPED                   |
+------------------------------+----------------+------------------------------+--------------+---------------------------+
| Fedora Linux 40              | PASS           | SKIPPED                      | SKIPPED      | SKIPPED                   |
+------------------------------+----------------+------------------------------+--------------+---------------------------+
| Ubuntu 24.04                 | PASS           | SKIPPED                      | SKIPPED      | SKIPPED                   |
+------------------------------+----------------+------------------------------+--------------+---------------------------+
| Fedora Linux 41              | PASS           | SKIPPED                      | SKIPPED      | SKIPPED                   |
+------------------------------+----------------+------------------------------+--------------+---------------------------+
| Red Hat Enterprise Linux 9.5 | PASS           | SKIPPED                      | SKIPPED      | SKIPPED                   |
+------------------------------+----------------+------------------------------+--------------+---------------------------+
| Fedora Linux 42              | PASS           | SKIPPED                      | SKIPPED      | SKIPPED                   |
+------------------------------+----------------+------------------------------+--------------+---------------------------+
| Ubuntu 22.04                 | PASS           | SKIPPED                      | SKIPPED      | SKIPPED                   |
+------------------------------+----------------+------------------------------+--------------+---------------------------+
| Ubuntu 20.04                 | PASS           | SKIPPED                      | PASS         | SKIPPED                   |
+------------------------------+----------------+------------------------------+--------------+---------------------------+
| CentOS Stream 9              | PASS           | SKIPPED                      | SKIPPED      | SKIPPED                   |
+------------------------------+----------------+------------------------------+--------------+---------------------------+
| Debian GNU/Linux 12          | PASS           | SKIPPED                      | SKIPPED      | SKIPPED                   |
+------------------------------+----------------+------------------------------+--------------+---------------------------+
| Debian 12 (arm)              | SKIPPED        | PASS                         | SKIPPED      | PASS                      |
+------------------------------+----------------+------------------------------+--------------+---------------------------+


CentOS Stream 10
	Kernel: 5.4
	Compiler: gcc gcc (GCC) 14.2.1 20250110 (Red Hat 14.2.1-8)

Fedora Linux 40
	Kernel: 5.4
	Compiler: clang gcc (GCC) 14.2.1 20240912 (Red Hat 14.2.1-3)

Ubuntu 24.04
	Kernel: 5.4
	Compiler: gcc gcc (Ubuntu 13.3.0-6ubuntu2~24.04) 13.3.0

Fedora Linux 41
	Kernel: 5.4
	Compiler: clang gcc (GCC) 14.3.1 20250523 (Red Hat 14.3.1-1)

Red Hat Enterprise Linux 9.5
	Kernel: 5.4
	Compiler: gcc gcc (GCC) 11.5.0 20240719 (Red Hat 11.5.0-2)

Fedora Linux 42
	Kernel: 5.4
	Compiler: gcc gcc (GCC) 15.2.1 20250808 (Red Hat 15.2.1-1)

Ubuntu 22.04
	Kernel: 5.4
	Compiler: gcc gcc (Ubuntu 11.4.0-1ubuntu1~22.04) 11.4.0

Ubuntu 20.04
	Kernel: 5.4
	Compiler: gcc gcc (Ubuntu 9.4.0-1ubuntu1~20.04.2) 9.4.0

CentOS Stream 9
	Kernel: 5.4
	Compiler: gcc gcc (GCC) 11.5.0 20240719 (Red Hat 11.5.0-11)

Debian GNU/Linux 12
	Kernel: 5.4
	Compiler: gcc gcc (Debian 12.2.0-14+deb12u1) 12.2.0

Debian 12 (arm)
	Kernel: Depends on container host
	Compiler: gcc (Debian 12.2.0-14) 12.2.0

To view detailed results, visit:
https://lab.dpdk.org/results/dashboard/patchsets/34489/

UNH-IOL DPDK Community Lab

To manage your email subscriptions, visit: 
https://lab.dpdk.org/results/dashboard/preferences/subscriptions/


More information about the test-report mailing list