|SUCCESS| pw158658-158662 [PATCH] [v4,5/5] vhost_user: Increase numb

dpdklab at iol.unh.edu dpdklab at iol.unh.edu
Tue Nov 11 14:05:13 CET 2025


Test-Label: iol-compile-amd64-testing
Test-Status: SUCCESS
http://dpdk.org/patch/158662

_Testing PASS_

Submitter: Pravin M Bathija <pravin.bathija at dell.com>
Date: Tuesday, November 11 2025 11:40:02 
DPDK git baseline: Repo:dpdk-next-virtio
  Branch: master
  CommitID:6b37c26a95388aa41bb5267c7c42f604fd571a38

158658-158662 --> testing pass

Upstream job id: Generic-DPDK-Compile-Meson#442975

Test environment and result as below:

+------------------+--------------------+
|   Environment    | dpdk_meson_compile |
+==================+====================+
| Ubuntu 20.04     | PASS               |
+------------------+--------------------+
| FreeBSD 14.2     | PASS               |
+------------------+--------------------+
| CentOS Stream 9  | PASS               |
+------------------+--------------------+
| CentOS Stream 10 | PASS               |
+------------------+--------------------+


Ubuntu 20.04
	Kernel: 4.19
	Compiler: gcc gcc (Ubuntu 9.4.0-1ubuntu1~20.04.2) 9.4.0

FreeBSD 14.2
	Kernel: 14.2-RELEASE
	Compiler: clang 18.1.6

CentOS Stream 9
	Kernel: 5.15
	Compiler: gcc gcc (GCC) 11.5.0 20240719 (Red Hat 11.5.0-11)

CentOS Stream 10
	Kernel: 5.15
	Compiler: gcc gcc (GCC) 14.2.1 20250110 (Red Hat 14.2.1-8)

To view detailed results, visit:
https://lab.dpdk.org/results/dashboard/patchsets/34533/

UNH-IOL DPDK Community Lab

To manage your email subscriptions, visit: 
https://lab.dpdk.org/results/dashboard/preferences/subscriptions/


More information about the test-report mailing list