|SUCCESS| pw158696-158697 [PATCH] [v3,2/2] test/crypto: add QAT AES-

dpdklab at iol.unh.edu dpdklab at iol.unh.edu
Wed Nov 12 20:59:52 CET 2025


Test-Label: iol-compile-amd64-testing
Test-Status: SUCCESS
http://dpdk.org/patch/158697

_Testing PASS_

Submitter: Emma Finn <emma.finn at intel.com>
Date: Wednesday, November 12 2025 10:19:11 
DPDK git baseline: Repo:dpdk-next-crypto
  Branch: master
  CommitID:8ae4f1d511226fd65a979e9f8a1e51835281a59b

158696-158697 --> testing pass

Upstream job id: Generic-DPDK-Compile-Meson#443386

Test environment and result as below:

+-----------------+--------------------+
|   Environment   | dpdk_meson_compile |
+=================+====================+
| FreeBSD 14.2    | PASS               |
+-----------------+--------------------+
| Ubuntu 20.04    | PASS               |
+-----------------+--------------------+
| CentOS Stream 9 | PASS               |
+-----------------+--------------------+


FreeBSD 14.2
	Kernel: 14.2-RELEASE
	Compiler: clang 18.1.6

Ubuntu 20.04
	Kernel: 4.19
	Compiler: gcc gcc (Ubuntu 9.4.0-1ubuntu1~20.04.2) 9.4.0

CentOS Stream 9
	Kernel: 5.15
	Compiler: gcc gcc (GCC) 11.5.0 20240719 (Red Hat 11.5.0-11)

To view detailed results, visit:
https://lab.dpdk.org/results/dashboard/patchsets/34546/

UNH-IOL DPDK Community Lab

To manage your email subscriptions, visit: 
https://lab.dpdk.org/results/dashboard/preferences/subscriptions/


More information about the test-report mailing list