|SUCCESS| pw158745 [PATCH] [v3] net/ice: fix statistics read error

dpdklab at iol.unh.edu dpdklab at iol.unh.edu
Thu Nov 13 12:32:34 CET 2025


Test-Label: iol-compile-amd64-testing
Test-Status: SUCCESS
http://dpdk.org/patch/158745

_Testing PASS_

Submitter: Zhichao Zeng <zhichaox.zeng at intel.com>
Date: Thursday, November 13 2025 07:47:10 
DPDK git baseline: Repo:dpdk-next-net-intel
  Branch: master
  CommitID:c63646d076330fb2ef3282cbd413aaf93f0509e6

158745 --> testing pass

Upstream job id: Windows-Compile-DPDK-Native#32289

Test environment and result as below:

+---------------------+--------------------+-------------------------+
|     Environment     | dpdk_meson_compile | dpdk_llvm_clang_compile |
+=====================+====================+=========================+
| FreeBSD 14.2        | PASS               | SKIPPED                 |
+---------------------+--------------------+-------------------------+
| Ubuntu 20.04        | PASS               | SKIPPED                 |
+---------------------+--------------------+-------------------------+
| Windows Server 2022 | SKIPPED            | PASS                    |
+---------------------+--------------------+-------------------------+


FreeBSD 14.2
	Kernel: 14.2-RELEASE
	Compiler: clang 18.1.6

Ubuntu 20.04
	Kernel: 4.19
	Compiler: gcc gcc (Ubuntu 9.4.0-1ubuntu1~20.04.2) 9.4.0

Windows Server 2022
	Kernel: 10.0.20348.2031
	Compiler: clang 15.0.7, gcc 14.1.0 (MinGW), and MSVC VS 19.39.33521

To view detailed results, visit:
https://lab.dpdk.org/results/dashboard/patchsets/34565/

UNH-IOL DPDK Community Lab

To manage your email subscriptions, visit: 
https://lab.dpdk.org/results/dashboard/preferences/subscriptions/


More information about the test-report mailing list