|SUCCESS| pw158754 [PATCH] net/ice: add MAC anti-spoof disable optio

dpdklab at iol.unh.edu dpdklab at iol.unh.edu
Thu Nov 13 16:16:07 CET 2025


Test-Label: iol-compile-amd64-testing
Test-Status: SUCCESS
http://dpdk.org/patch/158754

_Testing PASS_

Submitter: Anurag Mandal <anurag.mandal at intel.com>
Date: Thursday, November 13 2025 10:59:14 
DPDK git baseline: Repo:dpdk-next-net-intel
  Branch: master
  CommitID:123703be5bdd0fa45e4fda14f36a0d941d1f7e63

158754 --> testing pass

Upstream job id: Windows-Compile-DPDK-Native#32293

Test environment and result as below:

+---------------------+--------------------+-------------------------+
|     Environment     | dpdk_meson_compile | dpdk_llvm_clang_compile |
+=====================+====================+=========================+
| Ubuntu 20.04        | PASS               | SKIPPED                 |
+---------------------+--------------------+-------------------------+
| FreeBSD 14.2        | PASS               | SKIPPED                 |
+---------------------+--------------------+-------------------------+
| Windows Server 2022 | SKIPPED            | PASS                    |
+---------------------+--------------------+-------------------------+


Ubuntu 20.04
	Kernel: 4.19
	Compiler: gcc gcc (Ubuntu 9.4.0-1ubuntu1~20.04.2) 9.4.0

FreeBSD 14.2
	Kernel: 14.2-RELEASE
	Compiler: clang 18.1.6

Windows Server 2022
	Kernel: 10.0.20348.2031
	Compiler: clang 15.0.7, gcc 14.1.0 (MinGW), and MSVC VS 19.39.33521

To view detailed results, visit:
https://lab.dpdk.org/results/dashboard/patchsets/34571/

UNH-IOL DPDK Community Lab

To manage your email subscriptions, visit: 
https://lab.dpdk.org/results/dashboard/preferences/subscriptions/


More information about the test-report mailing list