|SUCCESS| pw158756-158759 [PATCH] [v4,4/4] bus/fslmc: add support fo

dpdklab at iol.unh.edu dpdklab at iol.unh.edu
Thu Nov 13 18:26:54 CET 2025


Test-Label: iol-compile-amd64-testing
Test-Status: SUCCESS
http://dpdk.org/patch/158759

_Testing PASS_

Submitter: Hemant Agrawal <hemant.agrawal at nxp.com>
Date: Thursday, November 13 2025 11:43:55 
DPDK git baseline: Repo:dpdk-next-net
  Branch: master
  CommitID:29807269854f9bfc72f1323273de8e23adc724d4

158756-158759 --> testing pass

Upstream job id: Generic-DPDK-Compile-Meson#443834

Test environment and result as below:

+---------------------+--------------------+
|     Environment     | dpdk_meson_compile |
+=====================+====================+
| Ubuntu 20.04        | PASS               |
+---------------------+--------------------+
| FreeBSD 14.2        | PASS               |
+---------------------+--------------------+
| Alpine Linux 3.22.0 | PASS               |
+---------------------+--------------------+


Ubuntu 20.04
	Kernel: 4.19
	Compiler: gcc gcc (Ubuntu 9.4.0-1ubuntu1~20.04.2) 9.4.0

FreeBSD 14.2
	Kernel: 14.2-RELEASE
	Compiler: clang 18.1.6

Alpine Linux 3.22.0
	Kernel: 5.15
	Compiler: gcc gcc (Alpine 14.2.0) 14.2.0

To view detailed results, visit:
https://lab.dpdk.org/results/dashboard/patchsets/34573/

UNH-IOL DPDK Community Lab

To manage your email subscriptions, visit: 
https://lab.dpdk.org/results/dashboard/preferences/subscriptions/


More information about the test-report mailing list