|SUCCESS| pw158755 [PATCH] [v1] net/axgbe: fix the build warninig fo
dpdklab at iol.unh.edu
dpdklab at iol.unh.edu
Fri Nov 14 04:16:17 CET 2025
Test-Label: iol-compile-amd64-testing
Test-Status: SUCCESS
http://dpdk.org/patch/158755
_Testing PASS_
Submitter: Venkat Kumar Ande <venkatkumar.ande at amd.com>
Date: Thursday, November 13 2025 11:30:55
DPDK git baseline: Repo:dpdk-next-net
Branch: master
CommitID:29807269854f9bfc72f1323273de8e23adc724d4
158755 --> testing pass
Upstream job id: Generic-DPDK-Compile-Meson#443987
Test environment and result as below:
+------------------+--------------------+
| Environment | dpdk_meson_compile |
+==================+====================+
| Ubuntu 20.04 | PASS |
+------------------+--------------------+
| FreeBSD 14.2 | PASS |
+------------------+--------------------+
| CentOS Stream 10 | PASS |
+------------------+--------------------+
| CentOS Stream 9 | PASS |
+------------------+--------------------+
Ubuntu 20.04
Kernel: 4.19
Compiler: gcc gcc (Ubuntu 9.4.0-1ubuntu1~20.04.2) 9.4.0
FreeBSD 14.2
Kernel: 14.2-RELEASE
Compiler: clang 18.1.6
CentOS Stream 10
Kernel: 5.15
Compiler: gcc gcc (GCC) 14.2.1 20250110 (Red Hat 14.2.1-8)
CentOS Stream 9
Kernel: 5.15
Compiler: gcc gcc (GCC) 11.5.0 20240719 (Red Hat 11.5.0-11)
To view detailed results, visit:
https://lab.dpdk.org/results/dashboard/patchsets/34572/
UNH-IOL DPDK Community Lab
To manage your email subscriptions, visit:
https://lab.dpdk.org/results/dashboard/preferences/subscriptions/
More information about the test-report
mailing list