|SUCCESS| pw158771 [PATCH] net/mlx5: fix uninitialized warning
dpdklab at iol.unh.edu
dpdklab at iol.unh.edu
Fri Nov 14 08:04:03 CET 2025
Test-Label: iol-compile-amd64-testing
Test-Status: SUCCESS
http://dpdk.org/patch/158771
_Testing PASS_
Submitter: Stephen Hemminger <stephen at networkplumber.org>
Date: Thursday, November 13 2025 16:33:01
DPDK git baseline: Repo:dpdk-next-net-mlx
Branch: master
CommitID:ae657d56b1f0ea979b3f611edf28d773efc2ddcf
158771 --> testing pass
Upstream job id: Windows-Compile-DPDK-Native#32313
Test environment and result as below:
+---------------------+--------------------+-------------------------+
| Environment | dpdk_meson_compile | dpdk_llvm_clang_compile |
+=====================+====================+=========================+
| Ubuntu 20.04 | PASS | SKIPPED |
+---------------------+--------------------+-------------------------+
| FreeBSD 14.2 | PASS | SKIPPED |
+---------------------+--------------------+-------------------------+
| Windows Server 2022 | SKIPPED | PASS |
+---------------------+--------------------+-------------------------+
Ubuntu 20.04
Kernel: 4.19
Compiler: gcc gcc (Ubuntu 9.4.0-1ubuntu1~20.04.2) 9.4.0
FreeBSD 14.2
Kernel: 14.2-RELEASE
Compiler: clang 18.1.6
Windows Server 2022
Kernel: 10.0.20348.2031
Compiler: clang 15.0.7, gcc 14.1.0 (MinGW), and MSVC VS 19.39.33521
To view detailed results, visit:
https://lab.dpdk.org/results/dashboard/patchsets/34579/
UNH-IOL DPDK Community Lab
To manage your email subscriptions, visit:
https://lab.dpdk.org/results/dashboard/preferences/subscriptions/
More information about the test-report
mailing list