|SUCCESS| pw158773-158774 [PATCH] [v4,2/2] dts: add QinQ test suite

dpdklab at iol.unh.edu dpdklab at iol.unh.edu
Fri Nov 14 13:13:31 CET 2025


Test-Label: iol-compile-amd64-testing
Test-Status: SUCCESS
http://dpdk.org/patch/158774

_Testing PASS_

Submitter: Dean Marx <dmarx at iol.unh.edu>
Date: Thursday, November 13 2025 19:03:09 
DPDK git baseline: Repo:dpdk-next-dts
  Branch: master
  CommitID:8dcc93a520b22330e0ad59d360a4594b854f9ddd

158773-158774 --> testing pass

Upstream job id: Generic-DPDK-Compile-Meson#444232

Test environment and result as below:

+-----------------+--------------------+
|   Environment   | dpdk_meson_compile |
+=================+====================+
| Ubuntu 20.04    | PASS               |
+-----------------+--------------------+
| FreeBSD 14.2    | PASS               |
+-----------------+--------------------+
| CentOS Stream 9 | PASS               |
+-----------------+--------------------+


Ubuntu 20.04
	Kernel: 4.19
	Compiler: gcc gcc (Ubuntu 9.4.0-1ubuntu1~20.04.2) 9.4.0

FreeBSD 14.2
	Kernel: 14.2-RELEASE
	Compiler: clang 18.1.6

CentOS Stream 9
	Kernel: 5.15
	Compiler: gcc gcc (GCC) 11.5.0 20240719 (Red Hat 11.5.0-11)

To view detailed results, visit:
https://lab.dpdk.org/results/dashboard/patchsets/34581/

UNH-IOL DPDK Community Lab

To manage your email subscriptions, visit: 
https://lab.dpdk.org/results/dashboard/preferences/subscriptions/


More information about the test-report mailing list