|SUCCESS| pw158775 [PATCH] net/mlx5: fix state corruption in dev sta

dpdklab at iol.unh.edu dpdklab at iol.unh.edu
Fri Nov 14 14:09:36 CET 2025


Test-Label: iol-compile-amd64-testing
Test-Status: SUCCESS
http://dpdk.org/patch/158775

_Testing PASS_

Submitter: Maayan Kashani <mkashani at nvidia.com>
Date: Thursday, November 13 2025 19:37:11 
DPDK git baseline: Repo:dpdk-next-net-mlx
  Branch: master
  CommitID:ae657d56b1f0ea979b3f611edf28d773efc2ddcf

158775 --> testing pass

Upstream job id: Generic-DPDK-Compile-Meson#444261

Test environment and result as below:

+---------------------+--------------------+
|     Environment     | dpdk_meson_compile |
+=====================+====================+
| Ubuntu 20.04        | PASS               |
+---------------------+--------------------+
| FreeBSD 14.2        | PASS               |
+---------------------+--------------------+
| Alpine Linux 3.22.0 | PASS               |
+---------------------+--------------------+
| CentOS Stream 9     | PASS               |
+---------------------+--------------------+
| CentOS Stream 10    | PASS               |
+---------------------+--------------------+


Ubuntu 20.04
	Kernel: 4.19
	Compiler: gcc gcc (Ubuntu 9.4.0-1ubuntu1~20.04.2) 9.4.0

FreeBSD 14.2
	Kernel: 14.2-RELEASE
	Compiler: clang 18.1.6

Alpine Linux 3.22.0
	Kernel: 5.15
	Compiler: gcc gcc (Alpine 14.2.0) 14.2.0

CentOS Stream 9
	Kernel: 5.15
	Compiler: gcc gcc (GCC) 11.5.0 20240719 (Red Hat 11.5.0-11)

CentOS Stream 10
	Kernel: 5.15
	Compiler: gcc gcc (GCC) 14.2.1 20250110 (Red Hat 14.2.1-8)

To view detailed results, visit:
https://lab.dpdk.org/results/dashboard/patchsets/34582/

UNH-IOL DPDK Community Lab

To manage your email subscriptions, visit: 
https://lab.dpdk.org/results/dashboard/preferences/subscriptions/


More information about the test-report mailing list