|SUCCESS| pw158783 [PATCH] [v2] ethdev: add GENEVE encapsulation and
dpdklab at iol.unh.edu
dpdklab at iol.unh.edu
Fri Nov 14 17:03:35 CET 2025
Test-Label: iol-compile-amd64-testing
Test-Status: SUCCESS
http://dpdk.org/patch/158783
_Testing PASS_
Submitter: Sunyang Wu <sunyang.wu at jaguarmicro.com>
Date: Friday, November 14 2025 06:19:17
DPDK git baseline: Repo:dpdk-next-net
Branch: master
CommitID:fca6f2910345c25a5050a0b586e0d324ca616cbb
158783 --> testing pass
Upstream job id: Generic-DPDK-Compile-Meson#444322
Test environment and result as below:
+-----------------+--------------------+
| Environment | dpdk_meson_compile |
+=================+====================+
| Ubuntu 20.04 | PASS |
+-----------------+--------------------+
| FreeBSD 14.2 | PASS |
+-----------------+--------------------+
| Ubuntu 22.04 | PASS |
+-----------------+--------------------+
| CentOS Stream 9 | PASS |
+-----------------+--------------------+
Ubuntu 20.04
Kernel: 4.19
Compiler: gcc gcc (Ubuntu 9.4.0-1ubuntu1~20.04.2) 9.4.0
FreeBSD 14.2
Kernel: 14.2-RELEASE
Compiler: clang 18.1.6
Ubuntu 22.04
Kernel: 5.15
Compiler: gcc gcc (Ubuntu 11.4.0-1ubuntu1~22.04) 11.4.0
CentOS Stream 9
Kernel: 5.15
Compiler: gcc gcc (GCC) 11.5.0 20240719 (Red Hat 11.5.0-11)
To view detailed results, visit:
https://lab.dpdk.org/results/dashboard/patchsets/34587/
UNH-IOL DPDK Community Lab
To manage your email subscriptions, visit:
https://lab.dpdk.org/results/dashboard/preferences/subscriptions/
More information about the test-report
mailing list