|SUCCESS| pw158780-158781 [PATCH] [2/2] dts: shorten a too long line
dpdklab at iol.unh.edu
dpdklab at iol.unh.edu
Fri Nov 14 18:51:43 CET 2025
Test-Label: iol-compile-amd64-testing
Test-Status: SUCCESS
http://dpdk.org/patch/158781
_Testing PASS_
Submitter: Patrick Robb <probb at iol.unh.edu>
Date: Thursday, November 13 2025 23:29:54
DPDK git baseline: Repo:dpdk-next-dts
Branch: master
CommitID:8dcc93a520b22330e0ad59d360a4594b854f9ddd
158780-158781 --> testing pass
Upstream job id: Generic-DPDK-Compile-Meson#444383
Test environment and result as below:
+------------------+--------------------+
| Environment | dpdk_meson_compile |
+==================+====================+
| Ubuntu 20.04 | PASS |
+------------------+--------------------+
| FreeBSD 14.2 | PASS |
+------------------+--------------------+
| CentOS Stream 9 | PASS |
+------------------+--------------------+
| CentOS Stream 10 | PASS |
+------------------+--------------------+
Ubuntu 20.04
Kernel: 4.19
Compiler: gcc gcc (Ubuntu 9.4.0-1ubuntu1~20.04.2) 9.4.0
FreeBSD 14.2
Kernel: 14.2-RELEASE
Compiler: clang 18.1.6
CentOS Stream 9
Kernel: 5.15
Compiler: gcc gcc (GCC) 11.5.0 20240719 (Red Hat 11.5.0-11)
CentOS Stream 10
Kernel: 5.15
Compiler: gcc gcc (GCC) 14.2.1 20250110 (Red Hat 14.2.1-8)
To view detailed results, visit:
https://lab.dpdk.org/results/dashboard/patchsets/34586/
UNH-IOL DPDK Community Lab
To manage your email subscriptions, visit:
https://lab.dpdk.org/results/dashboard/preferences/subscriptions/
More information about the test-report
mailing list