|SUCCESS| pw158782 [PATCH] examples/ipsec-secgw: add support for SM4
dpdklab at iol.unh.edu
dpdklab at iol.unh.edu
Fri Nov 14 22:29:33 CET 2025
Test-Label: iol-compile-amd64-testing
Test-Status: SUCCESS
http://dpdk.org/patch/158782
_Testing PASS_
Submitter: Sunyang Wu <sunyang.wu at jaguarmicro.com>
Date: Friday, November 14 2025 01:46:16
DPDK git baseline: Repo:dpdk
Branch: master
CommitID:be0112878b4fc3a1b918370ed2fe615c52039d77
158782 --> testing pass
Upstream job id: Windows-Compile-DPDK-VS#7553
Test environment and result as below:
+---------------------+--------------------+-------------------+
| Environment | dpdk_meson_compile | dpdk_msvc_compile |
+=====================+====================+===================+
| Ubuntu 20.04 | PASS | SKIPPED |
+---------------------+--------------------+-------------------+
| FreeBSD 14.2 | PASS | SKIPPED |
+---------------------+--------------------+-------------------+
| CentOS Stream 9 | PASS | SKIPPED |
+---------------------+--------------------+-------------------+
| Windows Server 2022 | SKIPPED | PASS |
+---------------------+--------------------+-------------------+
Ubuntu 20.04
Kernel: 4.19
Compiler: gcc gcc (Ubuntu 9.4.0-1ubuntu1~20.04.2) 9.4.0
FreeBSD 14.2
Kernel: 14.2-RELEASE
Compiler: clang 18.1.6
CentOS Stream 9
Kernel: 5.15
Compiler: gcc gcc (GCC) 11.5.0 20240719 (Red Hat 11.5.0-11)
Windows Server 2022
Kernel: 10.0.20348.2031
Compiler: clang 15.0.7, gcc 14.1.0 (MinGW), and MSVC VS 19.39.33521
To view detailed results, visit:
https://lab.dpdk.org/results/dashboard/patchsets/34588/
UNH-IOL DPDK Community Lab
To manage your email subscriptions, visit:
https://lab.dpdk.org/results/dashboard/preferences/subscriptions/
More information about the test-report
mailing list