|SUCCESS| pw158791 [PATCH] [v4] test/crypto: add AES-CCM test case w

dpdklab at iol.unh.edu dpdklab at iol.unh.edu
Sat Nov 15 01:06:17 CET 2025


Test-Label: iol-compile-amd64-testing
Test-Status: SUCCESS
http://dpdk.org/patch/158791

_Testing PASS_

Submitter: Emma Finn <emma.finn at intel.com>
Date: Friday, November 14 2025 16:20:35 
DPDK git baseline: Repo:dpdk-next-crypto
  Branch: master
  CommitID:754ac59dcaf20949b55c58ab00ca73ea19dcc1cb

158791 --> testing pass

Upstream job id: Windows-Compile-DPDK-VS#7556

Test environment and result as below:

+---------------------+--------------------+-------------------+
|     Environment     | dpdk_meson_compile | dpdk_msvc_compile |
+=====================+====================+===================+
| Ubuntu 20.04        | PASS               | SKIPPED           |
+---------------------+--------------------+-------------------+
| FreeBSD 14.2        | PASS               | SKIPPED           |
+---------------------+--------------------+-------------------+
| Windows Server 2022 | SKIPPED            | PASS              |
+---------------------+--------------------+-------------------+


Ubuntu 20.04
	Kernel: 4.19
	Compiler: gcc gcc (Ubuntu 9.4.0-1ubuntu1~20.04.2) 9.4.0

FreeBSD 14.2
	Kernel: 14.2-RELEASE
	Compiler: clang 18.1.6

Windows Server 2022
	Kernel: 10.0.20348.2031
	Compiler: clang 15.0.7, gcc 14.1.0 (MinGW), and MSVC VS 19.39.33521

To view detailed results, visit:
https://lab.dpdk.org/results/dashboard/patchsets/34592/

UNH-IOL DPDK Community Lab

To manage your email subscriptions, visit: 
https://lab.dpdk.org/results/dashboard/preferences/subscriptions/


More information about the test-report mailing list