|SUCCESS| pw158815 [PATCH] net/qede: remove unused file

dpdklab at iol.unh.edu dpdklab at iol.unh.edu
Sat Nov 15 03:28:58 CET 2025


Test-Label: iol-compile-amd64-testing
Test-Status: SUCCESS
http://dpdk.org/patch/158815

_Testing PASS_

Submitter: Stephen Hemminger <stephen at networkplumber.org>
Date: Friday, November 14 2025 18:02:51 
DPDK git baseline: Repo:dpdk-next-net-mrvl
  Branch: master
  CommitID:db4c93a4c6e088346c7e6d7e744178295b568461

158815 --> testing pass

Upstream job id: Windows-Compile-DPDK-VS#7559

Test environment and result as below:

+-------------------------------+--------------------+-------------------+
|          Environment          | dpdk_meson_compile | dpdk_msvc_compile |
+===============================+====================+===================+
| Ubuntu 20.04                  | PASS               | SKIPPED           |
+-------------------------------+--------------------+-------------------+
| FreeBSD 14.2                  | PASS               | SKIPPED           |
+-------------------------------+--------------------+-------------------+
| Red Hat Enterprise Linux 8.10 | PASS               | SKIPPED           |
+-------------------------------+--------------------+-------------------+
| Windows Server 2022           | SKIPPED            | PASS              |
+-------------------------------+--------------------+-------------------+


Ubuntu 20.04
	Kernel: 4.19
	Compiler: gcc gcc (Ubuntu 9.4.0-1ubuntu1~20.04.2) 9.4.0

FreeBSD 14.2
	Kernel: 14.2-RELEASE
	Compiler: clang 18.1.6

Red Hat Enterprise Linux 8.10
	Kernel: 5.15
	Compiler: gcc gcc (GCC) 8.5.0 20210514 (Red Hat 8.5.0-22)

Windows Server 2022
	Kernel: 10.0.20348.2031
	Compiler: clang 15.0.7, gcc 14.1.0 (MinGW), and MSVC VS 19.39.33521

To view detailed results, visit:
https://lab.dpdk.org/results/dashboard/patchsets/34597/

UNH-IOL DPDK Community Lab

To manage your email subscriptions, visit: 
https://lab.dpdk.org/results/dashboard/preferences/subscriptions/


More information about the test-report mailing list