|WARNING| pw158825-158828 [PATCH] [4/4] test: use unit test runner f

dpdklab at iol.unh.edu dpdklab at iol.unh.edu
Sun Nov 16 06:15:34 CET 2025


Test-Label: iol-unit-arm64-testing
Test-Status: WARNING
http://dpdk.org/patch/158828

_Testing issues_

Submitter: Stephen Hemminger <stephen at networkplumber.org>
Date: Saturday, November 15 2025 19:33:10 
DPDK git baseline: Repo:dpdk
  Branch: master
  CommitID:be0112878b4fc3a1b918370ed2fe615c52039d77

158825-158828 --> testing issues

Upstream job id: Generic-Unit-Test-DPDK#393115

Test environment and result as below:

+------------------------------+---------------------------+--------------+------------------------------+----------------+
|         Environment          | cryptodev_sw_zuc_autotest | lpm_autotest | cryptodev_sw_snow3g_autotest | dpdk_unit_test |
+==============================+===========================+==============+==============================+================+
| Debian 12 (arm)              | WARN                      | SKIPPED      | WARN                         | SKIPPED        |
+------------------------------+---------------------------+--------------+------------------------------+----------------+
| Ubuntu 20.04                 | SKIPPED                   | PASS         | SKIPPED                      | WARN           |
+------------------------------+---------------------------+--------------+------------------------------+----------------+
| CentOS Stream 9              | SKIPPED                   | SKIPPED      | SKIPPED                      | WARN           |
+------------------------------+---------------------------+--------------+------------------------------+----------------+
| Debian GNU/Linux 12          | SKIPPED                   | SKIPPED      | SKIPPED                      | WARN           |
+------------------------------+---------------------------+--------------+------------------------------+----------------+
| CentOS Stream 10             | SKIPPED                   | SKIPPED      | SKIPPED                      | WARN           |
+------------------------------+---------------------------+--------------+------------------------------+----------------+
| Fedora Linux 41              | SKIPPED                   | SKIPPED      | SKIPPED                      | WARN           |
+------------------------------+---------------------------+--------------+------------------------------+----------------+
| Fedora Linux 40              | SKIPPED                   | SKIPPED      | SKIPPED                      | WARN           |
+------------------------------+---------------------------+--------------+------------------------------+----------------+
| Fedora Linux 42              | SKIPPED                   | SKIPPED      | SKIPPED                      | WARN           |
+------------------------------+---------------------------+--------------+------------------------------+----------------+
| Ubuntu 22.04                 | SKIPPED                   | SKIPPED      | SKIPPED                      | PASS           |
+------------------------------+---------------------------+--------------+------------------------------+----------------+
| Red Hat Enterprise Linux 9.5 | SKIPPED                   | SKIPPED      | SKIPPED                      | WARN           |
+------------------------------+---------------------------+--------------+------------------------------+----------------+
| Ubuntu 24.04                 | SKIPPED                   | SKIPPED      | SKIPPED                      | WARN           |
+------------------------------+---------------------------+--------------+------------------------------+----------------+

==== 20 line log output for Ubuntu 24.04 (dpdk_unit_test): ====
In function 'rte_strlcpy',
inlined from 'setup_acl_pipeline.isra' at ../app/test/test_table_acl.c:597:4:
../lib/eal/include/rte_string_fns.h:63:24: error: '%s' directive output may be truncated writing up to 639 bytes into a region of size 128 [-Werror=format-truncation=]
63 |         return (size_t)snprintf(dst, size, "%s", src);
|                        ^~~~~~~~~~~~~~~~~~~~~~~~~~~~~~
In function 'snprintf',
inlined from 'rte_strlcpy' at ../lib/eal/include/rte_string_fns.h:63:17,
inlined from 'setup_acl_pipeline.isra' at ../app/test/test_table_acl.c:597:4:
/usr/include/aarch64-linux-gnu/bits/stdio2.h:54:10: note: '__builtin_snprintf' output between 1 and 640 bytes into a destination of size 128
54 |   return __builtin___snprintf_chk (__s, __n, __USE_FORTIFY_LEVEL - 1,
|          ^~~~~~~~~~~~~~~~~~~~~~~~~~~~~~~~~~~~~~~~~~~~~~~~~~~~~~~~~~~~
55 |                                    __glibc_objsize (__s), __fmt,
|                                    ~~~~~~~~~~~~~~~~~~~~~~~~~~~~~
56 |                                    __va_arg_pack ());
|                                    ~~~~~~~~~~~~~~~~~
cc1: all warnings being treated as errors
[3791/3815] Compiling C object app/dpdk-test.p/test_test_ring_perf.c.o
[3792/3815] Compiling C object app/dpdk-test.p/test_test_ring.c.o
[3793/3815] Compiling C object app/dpdk-test.p/test_test_table_combined.c.o
ninja: build stopped: subcommand failed.
==== End log output ====

Debian 12 (arm)
	Kernel: Depends on container host
	Compiler: gcc (Debian 12.2.0-14) 12.2.0

Ubuntu 20.04
	Kernel: 5.4
	Compiler: gcc gcc (Ubuntu 9.4.0-1ubuntu1~20.04.2) 9.4.0

CentOS Stream 9
	Kernel: 5.4
	Compiler: gcc gcc (GCC) 11.5.0 20240719 (Red Hat 11.5.0-11)

Debian GNU/Linux 12
	Kernel: 5.4
	Compiler: gcc gcc (Debian 12.2.0-14+deb12u1) 12.2.0

CentOS Stream 10
	Kernel: 5.4
	Compiler: gcc gcc (GCC) 14.2.1 20250110 (Red Hat 14.2.1-8)

Fedora Linux 41
	Kernel: 5.4
	Compiler: clang gcc (GCC) 14.3.1 20250523 (Red Hat 14.3.1-1)

Fedora Linux 40
	Kernel: 5.4
	Compiler: clang gcc (GCC) 14.2.1 20240912 (Red Hat 14.2.1-3)

Fedora Linux 42
	Kernel: 5.4
	Compiler: clang gcc (GCC) 15.2.1 20250808 (Red Hat 15.2.1-1)

Ubuntu 22.04
	Kernel: 5.4
	Compiler: gcc gcc (Ubuntu 11.4.0-1ubuntu1~22.04) 11.4.0

Red Hat Enterprise Linux 9.5
	Kernel: 5.4
	Compiler: gcc gcc (GCC) 11.5.0 20240719 (Red Hat 11.5.0-2)

Ubuntu 24.04
	Kernel: 5.4
	Compiler: gcc gcc (Ubuntu 13.3.0-6ubuntu2~24.04) 13.3.0

To view detailed results, visit:
https://lab.dpdk.org/results/dashboard/patchsets/34605/

UNH-IOL DPDK Community Lab

To manage your email subscriptions, visit: 
https://lab.dpdk.org/results/dashboard/preferences/subscriptions/


More information about the test-report mailing list