|SUCCESS| pw158857 [PATCH] [v2] net/mlx5/windows: fix match criteria

dpdklab at iol.unh.edu dpdklab at iol.unh.edu
Mon Nov 17 12:48:42 CET 2025


Test-Label: iol-compile-amd64-testing
Test-Status: SUCCESS
http://dpdk.org/patch/158857

_Testing PASS_

Submitter: Itai Sharoni <isharoni at nvidia.com>
Date: Monday, November 17 2025 08:45:00 
DPDK git baseline: Repo:dpdk-next-net-mlx
  Branch: master
  CommitID:6c8ab18883d4a51ac512a969d36b47272a63b61b

158857 --> testing pass

Upstream job id: Generic-DPDK-Compile-Meson#445463

Test environment and result as below:

+--------------------+--------------------+
|    Environment     | dpdk_meson_compile |
+====================+====================+
| Ubuntu 20.04       | PASS               |
+--------------------+--------------------+
| FreeBSD 14.2       | PASS               |
+--------------------+--------------------+
| openSUSE Leap 15.6 | PASS               |
+--------------------+--------------------+


Ubuntu 20.04
	Kernel: 4.19
	Compiler: gcc gcc (Ubuntu 9.4.0-1ubuntu1~20.04.2) 9.4.0

FreeBSD 14.2
	Kernel: 14.2-RELEASE
	Compiler: clang 18.1.6

openSUSE Leap 15.6
	Kernel: 5.15
	Compiler: gcc gcc (SUSE Linux) 7.5.0

To view detailed results, visit:
https://lab.dpdk.org/results/dashboard/patchsets/34626/

UNH-IOL DPDK Community Lab

To manage your email subscriptions, visit: 
https://lab.dpdk.org/results/dashboard/preferences/subscriptions/


More information about the test-report mailing list