|SUCCESS| pw158858 [PATCH] [v2] examples/ipsec-secgw: add support fo
dpdklab at iol.unh.edu
dpdklab at iol.unh.edu
Mon Nov 17 14:28:09 CET 2025
Test-Label: iol-compile-amd64-testing
Test-Status: SUCCESS
http://dpdk.org/patch/158858
_Testing PASS_
Submitter: Sunyang Wu <sunyang.wu at jaguarmicro.com>
Date: Monday, November 17 2025 09:08:51
DPDK git baseline: Repo:dpdk
Branch: master
CommitID:be0112878b4fc3a1b918370ed2fe615c52039d77
158858 --> testing pass
Upstream job id: Generic-DPDK-Compile-Meson#445584
Test environment and result as below:
+-----------------+--------------------+
| Environment | dpdk_meson_compile |
+=================+====================+
| FreeBSD 14.2 | PASS |
+-----------------+--------------------+
| Ubuntu 20.04 | PASS |
+-----------------+--------------------+
| CentOS Stream 9 | PASS |
+-----------------+--------------------+
FreeBSD 14.2
Kernel: 14.2-RELEASE
Compiler: clang 18.1.6
Ubuntu 20.04
Kernel: 4.19
Compiler: gcc gcc (Ubuntu 9.4.0-1ubuntu1~20.04.2) 9.4.0
CentOS Stream 9
Kernel: 5.15
Compiler: gcc gcc (GCC) 11.5.0 20240719 (Red Hat 11.5.0-11)
To view detailed results, visit:
https://lab.dpdk.org/results/dashboard/patchsets/34625/
UNH-IOL DPDK Community Lab
To manage your email subscriptions, visit:
https://lab.dpdk.org/results/dashboard/preferences/subscriptions/
More information about the test-report
mailing list