|SUCCESS| pw157151-157155 [PATCH] [v3,5/5] usertools/mbuf: parse mbu

dpdklab at iol.unh.edu dpdklab at iol.unh.edu
Wed Oct 1 03:04:19 CEST 2025


Test-Label: iol-compile-amd64-testing
Test-Status: SUCCESS
http://dpdk.org/patch/157155

_Testing PASS_

Submitter: Thomas Monjalon <thomas at monjalon.net>
Date: Tuesday, September 30 2025 23:25:06 
DPDK git baseline: Repo:dpdk
  Branch: master
  CommitID:f3878b615e69a12087a6c5d212723478cfc79c31

157151-157155 --> testing pass

Upstream job id: Windows-Compile-DPDK-Native#31338

Test environment and result as below:

+---------------------+--------------------+-------------------------+-------------------+----------------------+
|     Environment     | dpdk_meson_compile | dpdk_llvm_clang_compile | dpdk_msvc_compile | dpdk_mingw64_compile |
+=====================+====================+=========================+===================+======================+
| Ubuntu 20.04        | PASS               | SKIPPED                 | SKIPPED           | SKIPPED              |
+---------------------+--------------------+-------------------------+-------------------+----------------------+
| FreeBSD 14.2        | PASS               | SKIPPED                 | SKIPPED           | SKIPPED              |
+---------------------+--------------------+-------------------------+-------------------+----------------------+
| Windows Server 2022 | SKIPPED            | PASS                    | PASS              | PASS                 |
+---------------------+--------------------+-------------------------+-------------------+----------------------+


Ubuntu 20.04
	Kernel: 4.19
	Compiler: gcc gcc (Ubuntu 9.4.0-1ubuntu1~20.04.2) 9.4.0

FreeBSD 14.2
	Kernel: 14.2-RELEASE
	Compiler: clang 18.1.6

Windows Server 2022
	Kernel: 10.0.20348.2031
	Compiler: clang 15.0.7, gcc 14.1.0 (MinGW), and MSVC VS 19.39.33521

To view detailed results, visit:
https://lab.dpdk.org/results/dashboard/patchsets/34187/

UNH-IOL DPDK Community Lab

To manage your email subscriptions, visit: 
https://lab.dpdk.org/results/dashboard/preferences/subscriptions/


More information about the test-report mailing list