|SUCCESS| [GIT MASTER] 3b43ce3f4a54468e7ef65760c2fd7b4d6ee6d9fc
dpdklab at iol.unh.edu
dpdklab at iol.unh.edu
Wed Oct 1 06:56:49 CEST 2025
_Testing PASS_
Branch: tags/v22.11
3b43ce3f4a54468e7ef65760c2fd7b4d6ee6d9fc --> testing pass
Upstream job id: Windows-Compile-DPDK-Native#31341
Test environment and result as below:
+---------------------+--------------------+-------------------------+
| Environment | dpdk_meson_compile | dpdk_llvm_clang_compile |
+=====================+====================+=========================+
| Ubuntu 20.04 | PASS | SKIPPED |
+---------------------+--------------------+-------------------------+
| FreeBSD 14.2 | PASS | SKIPPED |
+---------------------+--------------------+-------------------------+
| Windows Server 2022 | SKIPPED | PASS |
+---------------------+--------------------+-------------------------+
Ubuntu 20.04
Kernel: 4.19
Compiler: gcc gcc (Ubuntu 9.4.0-1ubuntu1~20.04.2) 9.4.0
FreeBSD 14.2
Kernel: 14.2-RELEASE
Compiler: clang 18.1.6
Windows Server 2022
Kernel: 10.0.20348.2031
Compiler: clang 15.0.7, gcc 14.1.0 (MinGW), and MSVC VS 19.39.33521
To view detailed results, visit:
https://lab.dpdk.org/results/dashboard/tarballs/35067/
UNH-IOL DPDK Community Lab
To manage your email subscriptions, visit:
https://lab.dpdk.org/results/dashboard/preferences/subscriptions/
More information about the test-report
mailing list