|SUCCESS| [GIT MASTER] 3b43ce3f4a54468e7ef65760c2fd7b4d6ee6d9fc
    dpdklab at iol.unh.edu 
    dpdklab at iol.unh.edu
       
    Thu Oct  2 04:05:17 CEST 2025
    
    
  
_Testing PASS_
Branch: tags/v22.11
3b43ce3f4a54468e7ef65760c2fd7b4d6ee6d9fc --> testing pass
Upstream job id: Generic-Unit-Test-DPDK#377372
Test environment and result as below:
+-----------------+----------------+--------------+---------------------------+------------------------------+
|   Environment   | dpdk_unit_test | lpm_autotest | cryptodev_sw_zuc_autotest | cryptodev_sw_snow3g_autotest |
+=================+================+==============+===========================+==============================+
| Ubuntu 22.04    | PASS           | SKIPPED      | SKIPPED                   | SKIPPED                      |
+-----------------+----------------+--------------+---------------------------+------------------------------+
| Ubuntu 20.04    | SKIPPED        | PASS         | SKIPPED                   | SKIPPED                      |
+-----------------+----------------+--------------+---------------------------+------------------------------+
| Debian 12 (arm) | SKIPPED        | SKIPPED      | PASS                      | PASS                         |
+-----------------+----------------+--------------+---------------------------+------------------------------+
Ubuntu 22.04
	Kernel: 5.15
	Compiler: gcc gcc (Ubuntu 11.4.0-1ubuntu1~22.04.2) 11.4.0
Ubuntu 20.04
	Kernel: 5.4
	Compiler: gcc gcc (Ubuntu 9.4.0-1ubuntu1~20.04.2) 9.4.0
Debian 12 (arm)
	Kernel: Depends on container host
	Compiler: gcc (Debian 12.2.0-14) 12.2.0
To view detailed results, visit:
https://lab.dpdk.org/results/dashboard/tarballs/35067/
UNH-IOL DPDK Community Lab
To manage your email subscriptions, visit: 
https://lab.dpdk.org/results/dashboard/preferences/subscriptions/
    
    
More information about the test-report
mailing list