|SUCCESS| [GIT MASTER] b287e404643aeab5bb5db084c142789df187844e
dpdklab at iol.unh.edu
dpdklab at iol.unh.edu
Thu Oct 2 06:25:13 CEST 2025
_Testing PASS_
Branch: tags/v24.11
b287e404643aeab5bb5db084c142789df187844e --> testing pass
Upstream job id: Windows-Compile-DPDK-Native#31372
Test environment and result as below:
+---------------------+-------------------+--------------------+-------------------------+----------------------+
| Environment | dpdk_msvc_compile | dpdk_meson_compile | dpdk_llvm_clang_compile | dpdk_mingw64_compile |
+=====================+===================+====================+=========================+======================+
| Windows Server 2022 | PASS | SKIPPED | PASS | PASS |
+---------------------+-------------------+--------------------+-------------------------+----------------------+
| FreeBSD 14.2 | SKIPPED | PASS | SKIPPED | SKIPPED |
+---------------------+-------------------+--------------------+-------------------------+----------------------+
| Ubuntu 20.04 | SKIPPED | PASS | SKIPPED | SKIPPED |
+---------------------+-------------------+--------------------+-------------------------+----------------------+
Windows Server 2022
Kernel: 10.0.20348.2031
Compiler: clang 15.0.7, gcc 14.1.0 (MinGW), and MSVC VS 19.39.33521
FreeBSD 14.2
Kernel: 14.2-RELEASE
Compiler: clang 18.1.6
Ubuntu 20.04
Kernel: 4.19
Compiler: gcc gcc (Ubuntu 9.4.0-1ubuntu1~20.04.2) 9.4.0
To view detailed results, visit:
https://lab.dpdk.org/results/dashboard/tarballs/35083/
UNH-IOL DPDK Community Lab
To manage your email subscriptions, visit:
https://lab.dpdk.org/results/dashboard/preferences/subscriptions/
More information about the test-report
mailing list