|SUCCESS| pw157156-157164 [PATCH] [v7,9/9] power: separate public an

dpdklab at iol.unh.edu dpdklab at iol.unh.edu
Thu Oct 2 09:59:07 CEST 2025


Test-Label: iol-compile-amd64-testing
Test-Status: SUCCESS
http://dpdk.org/patch/157164

_Testing PASS_

Submitter: David Marchand <david.marchand at redhat.com>
Date: Wednesday, October 01 2025 06:45:11 
DPDK git baseline: Repo:dpdk
  Branch: master
  CommitID:f3878b615e69a12087a6c5d212723478cfc79c31

157156-157164 --> testing pass

Upstream job id: Generic-DPDK-Compile-Meson#430396

Test environment and result as below:

+---------------------+-------------------------+--------------------+-------------------+----------------------+-------------------+
|     Environment     | dpdk_llvm_clang_compile | dpdk_meson_compile | dpdk_msvc_compile | dpdk_mingw64_compile | dpdk_compile_spdk |
+=====================+=========================+====================+===================+======================+===================+
| Windows Server 2022 | PASS                    | SKIPPED            | PASS              | PASS                 | SKIPPED           |
+---------------------+-------------------------+--------------------+-------------------+----------------------+-------------------+
| Ubuntu 20.04        | SKIPPED                 | PASS               | SKIPPED           | SKIPPED              | SKIPPED           |
+---------------------+-------------------------+--------------------+-------------------+----------------------+-------------------+
| FreeBSD 14.2        | SKIPPED                 | PASS               | SKIPPED           | SKIPPED              | SKIPPED           |
+---------------------+-------------------------+--------------------+-------------------+----------------------+-------------------+
| CentOS Stream 9     | SKIPPED                 | PASS               | SKIPPED           | SKIPPED              | PASS              |
+---------------------+-------------------------+--------------------+-------------------+----------------------+-------------------+


Windows Server 2022
	Kernel: 10.0.20348.2031
	Compiler: clang 15.0.7, gcc 14.1.0 (MinGW), and MSVC VS 19.39.33521

Ubuntu 20.04
	Kernel: 4.19
	Compiler: gcc gcc (Ubuntu 9.4.0-1ubuntu1~20.04.2) 9.4.0

FreeBSD 14.2
	Kernel: 14.2-RELEASE
	Compiler: clang 18.1.6

CentOS Stream 9
	Kernel: 5.15
	Compiler: gcc gcc (GCC) 11.5.0 20240719 (Red Hat 11.5.0-11)

To view detailed results, visit:
https://lab.dpdk.org/results/dashboard/patchsets/34188/

UNH-IOL DPDK Community Lab

To manage your email subscriptions, visit: 
https://lab.dpdk.org/results/dashboard/preferences/subscriptions/


More information about the test-report mailing list