|SUCCESS| pw157207-157208 [PATCH] [v6,2/2] crypto/ipsec-mb: use cons
dpdklab at iol.unh.edu
dpdklab at iol.unh.edu
Thu Oct 2 18:46:59 CEST 2025
Test-Label: iol-compile-amd64-testing
Test-Status: SUCCESS
http://dpdk.org/patch/157208
_Testing PASS_
Submitter: Kai Ji <kai.ji at intel.com>
Date: Thursday, October 02 2025 15:32:29
DPDK git baseline: Repo:dpdk
Branch: master
CommitID:76393b98bf67f94dc6aa23cf5016c32571899261
157207-157208 --> testing pass
Upstream job id: Windows-Compile-DPDK-Native#31378
Test environment and result as below:
+---------------------+--------------------+-------------------------+-------------------+----------------------+
| Environment | dpdk_meson_compile | dpdk_llvm_clang_compile | dpdk_msvc_compile | dpdk_mingw64_compile |
+=====================+====================+=========================+===================+======================+
| Ubuntu 20.04 | PASS | SKIPPED | SKIPPED | SKIPPED |
+---------------------+--------------------+-------------------------+-------------------+----------------------+
| FreeBSD 14.2 | PASS | SKIPPED | SKIPPED | SKIPPED |
+---------------------+--------------------+-------------------------+-------------------+----------------------+
| Windows Server 2022 | SKIPPED | PASS | PASS | PASS |
+---------------------+--------------------+-------------------------+-------------------+----------------------+
Ubuntu 20.04
Kernel: 4.19
Compiler: gcc gcc (Ubuntu 9.4.0-1ubuntu1~20.04.2) 9.4.0
FreeBSD 14.2
Kernel: 14.2-RELEASE
Compiler: clang 18.1.6
Windows Server 2022
Kernel: 10.0.20348.2031
Compiler: clang 15.0.7, gcc 14.1.0 (MinGW), and MSVC VS 19.39.33521
To view detailed results, visit:
https://lab.dpdk.org/results/dashboard/patchsets/34199/
UNH-IOL DPDK Community Lab
To manage your email subscriptions, visit:
https://lab.dpdk.org/results/dashboard/preferences/subscriptions/
More information about the test-report
mailing list